BEGIN:VCALENDAR
VERSION:2.0
PRODID:-//Turismo Puyehue - ECPv6.8.1//NONSGML v1.0//EN
CALSCALE:GREGORIAN
METHOD:PUBLISH
X-ORIGINAL-URL:https://puyehuechile.cl
X-WR-CALDESC:Eventos para Turismo Puyehue
REFRESH-INTERVAL;VALUE=DURATION:PT1H
X-Robots-Tag:noindex
X-PUBLISHED-TTL:PT1H
BEGIN:VTIMEZONE
TZID:UTC
BEGIN:STANDARD
TZOFFSETFROM:+0000
TZOFFSETTO:+0000
TZNAME:UTC
DTSTART:20230101T000000
END:STANDARD
END:VTIMEZONE
BEGIN:VEVENT
DTSTART;TZID=UTC:20230902T100000
DTEND;TZID=UTC:20230902T200000
DTSTAMP:20260426T000722
CREATED:20230831T132557Z
LAST-MODIFIED:20230831T132744Z
UID:2913-1693648800-1693684800@puyehuechile.cl
SUMMARY:EXPO EMPRENDEDORAS PUYEHUE
DESCRIPTION:TRADICIONAL FERIA DE EMPRENDEDORAS DONDE MUESTRAN FINAS MANUALIDADES Y ARTESANIAS LOCALES
URL:https://puyehuechile.cl/evento/expo-emprendedoras-puyehue/
LOCATION:Puyehue
CATEGORIES:ARTESANIA,CULTURA,MUJER,MÚSICA,TURISMO
ATTACH;FMTTYPE=image/jpeg:https://puyehuechile.cl/sitio/wp-content/uploads/2023/08/WhatsApp-Image-2023-08-30-at-18.19.18.jpeg
END:VEVENT
END:VCALENDAR