BEGIN:VCALENDAR
VERSION:2.0
PRODID:-//Turismo Puyehue - ECPv6.8.1//NONSGML v1.0//EN
CALSCALE:GREGORIAN
METHOD:PUBLISH
X-ORIGINAL-URL:https://puyehuechile.cl
X-WR-CALDESC:Eventos para Turismo Puyehue
REFRESH-INTERVAL;VALUE=DURATION:PT1H
X-Robots-Tag:noindex
X-PUBLISHED-TTL:PT1H
BEGIN:VTIMEZONE
TZID:UTC
BEGIN:STANDARD
TZOFFSETFROM:+0000
TZOFFSETTO:+0000
TZNAME:UTC
DTSTART:20230101T000000
END:STANDARD
END:VTIMEZONE
BEGIN:VEVENT
DTSTART;TZID=UTC:20230901T110000
DTEND;TZID=UTC:20230901T130000
DTSTAMP:20260426T000701
CREATED:20230829T195242Z
LAST-MODIFIED:20230829T195242Z
UID:2874-1693566000-1693573200@puyehuechile.cl
SUMMARY:Embanderamiento de la comuna.
DESCRIPTION:Se inicia fiestas patrias con la inaguracion oficial e izamiento de la bandera nacional
URL:https://puyehuechile.cl/evento/embanderamiento-de-la-comuna/
LOCATION:Puyehue
CATEGORIES:CULTURA,MUJER,MÚSICA,TURISMO
ATTACH;FMTTYPE=image/jpeg:https://puyehuechile.cl/sitio/wp-content/uploads/2023/08/WhatsApp-Image-2023-08-29-at-15.16.54.jpeg
END:VEVENT
END:VCALENDAR