BEGIN:VCALENDAR
VERSION:2.0
PRODID:-//Turismo Puyehue - ECPv6.8.1//NONSGML v1.0//EN
CALSCALE:GREGORIAN
METHOD:PUBLISH
X-WR-CALNAME:Turismo Puyehue
X-ORIGINAL-URL:https://puyehuechile.cl
X-WR-CALDESC:Eventos para Turismo Puyehue
REFRESH-INTERVAL;VALUE=DURATION:PT1H
X-Robots-Tag:noindex
X-PUBLISHED-TTL:PT1H
BEGIN:VTIMEZONE
TZID:UTC
BEGIN:STANDARD
TZOFFSETFROM:+0000
TZOFFSETTO:+0000
TZNAME:UTC
DTSTART:20230101T000000
END:STANDARD
END:VTIMEZONE
BEGIN:VEVENT
DTSTART;TZID=UTC:20230201T080000
DTEND;TZID=UTC:20230226T170000
DTSTAMP:20260426T042958
CREATED:20230202T201059Z
LAST-MODIFIED:20230202T201059Z
UID:2458-1675238400-1677430800@puyehuechile.cl
SUMMARY:TALLER DE NATACIÓN
DESCRIPTION:Se invita a Participar del taller de Natación de Verano\, los días Martes y Jueves a partir de las 12:30 hrs. En la Costanera Entre Lagos. Las Inscripciones se encuentran abiertas\, Comunicarse con el profesor Camilo Castillo al WhatsApp +56945323454.
URL:https://puyehuechile.cl/evento/taller-de-natacion/
LOCATION:Costanera Entre Lagos\, Playa Puyehue\, Entre Lagos\, Comuna de Puyehue\, Chile
CATEGORIES:NIÑOS Y NIÑAS,TURISMO
ATTACH;FMTTYPE=image/png:https://puyehuechile.cl/sitio/wp-content/uploads/2023/02/TALLER-DE-NATACION.png
END:VEVENT
BEGIN:VEVENT
DTSTART;TZID=UTC:20230216T080000
DTEND;TZID=UTC:20230218T170000
DTSTAMP:20260426T042958
CREATED:20221122T143648Z
LAST-MODIFIED:20230212T153318Z
UID:2167-1676534400-1676739600@puyehuechile.cl
SUMMARY:FESTIVAL INTERNACIONAL DE MUSICA MEXICANA
DESCRIPTION:Tradicional con mas de 30 años que muestra lo mejor de la voz de la música mexicana
URL:https://puyehuechile.cl/evento/festival-internacional-de-musica-mexicana/
LOCATION:Explanada Entre Lagos\, Entre lagos\, Puyehue\, Chile
CATEGORIES:ARTESANIA,CULTURA,GASTRONOMIA,MUJER,NIÑOS Y NIÑAS,TURISMO
ATTACH;FMTTYPE=image/png:https://puyehuechile.cl/sitio/wp-content/uploads/2022/11/Festival-Mexicano.png
END:VEVENT
BEGIN:VEVENT
DTSTART;TZID=UTC:20230217T100000
DTEND;TZID=UTC:20230217T140000
DTSTAMP:20260426T042958
CREATED:20230119T173733Z
LAST-MODIFIED:20230202T192740Z
UID:2366-1676628000-1676642400@puyehuechile.cl
SUMMARY:CORRIDA FAMILIAR PILMAIQUÉN
DESCRIPTION:Evento Deportivo que invita a la comunidad a participar de la Primera Corrida Familiar 5k Pilmaiquén. Las Inscripciones se encuentran abiertas desde el 01 al 15 de febrero. lo puedes realizar en la sede junta de vecinos Pilmaiquén\, a través del WhatsApp +56934145819 o a través de la página web www.culturapilmaiquen.cl.
URL:https://puyehuechile.cl/evento/corrida-familiar/
LOCATION:Plaza de Pilmaiquen\, Ruta 215\, Pilmaiquen\, Comuna de Puyehue\, Chile
CATEGORIES:CULTURA,TURISMO
ATTACH;FMTTYPE=image/png:https://puyehuechile.cl/sitio/wp-content/uploads/2023/01/corrida-pilmaiquen.png
END:VEVENT
BEGIN:VEVENT
DTSTART;TZID=UTC:20230217T210000
DTEND;TZID=UTC:20230217T210000
DTSTAMP:20260426T042958
CREATED:20230210T204654Z
LAST-MODIFIED:20230210T205627Z
UID:2684-1676667600-1676667600@puyehuechile.cl
SUMMARY:SEGUNDO DIA FESTIVAL INTERNACIONAL MEXICANO 2023
DESCRIPTION:Segundo día del Festival Internacional de la Música Mexicana 2023\, donde Además de los concursantes al Festival Habrá diversos Artistas invitados como el conjunto folclórico «Hijos de la Tierra» continuando con «Los Rancheros de Puyehue» y culminando con el grupo «Arremacho»
URL:https://puyehuechile.cl/evento/segundo-dia-festival-mexicano-2023/
LOCATION:Explanada Entre Lagos\, Entre lagos\, Puyehue\, Chile
CATEGORIES:CULTURA,MÚSICA,TURISMO
ATTACH;FMTTYPE=image/png:https://puyehuechile.cl/sitio/wp-content/uploads/2023/02/Arremacho-1.png
END:VEVENT
END:VCALENDAR