BEGIN:VCALENDAR
VERSION:2.0
PRODID:-//Turismo Puyehue - ECPv6.8.1//NONSGML v1.0//EN
CALSCALE:GREGORIAN
METHOD:PUBLISH
X-WR-CALNAME:Turismo Puyehue
X-ORIGINAL-URL:https://puyehuechile.cl
X-WR-CALDESC:Eventos para Turismo Puyehue
REFRESH-INTERVAL;VALUE=DURATION:PT1H
X-Robots-Tag:noindex
X-PUBLISHED-TTL:PT1H
BEGIN:VTIMEZONE
TZID:UTC
BEGIN:STANDARD
TZOFFSETFROM:+0000
TZOFFSETTO:+0000
TZNAME:UTC
DTSTART:20240101T000000
END:STANDARD
END:VTIMEZONE
BEGIN:VEVENT
DTSTART;TZID=UTC:20240629T100000
DTEND;TZID=UTC:20240707T233000
DTSTAMP:20260419T223815
CREATED:20240614T193946Z
LAST-MODIFIED:20240614T194200Z
UID:4276-1719655200-1720395000@puyehuechile.cl
SUMMARY:PUIHUA CULTURAL 2024; DÉCIMO ANIVERSARIO
DESCRIPTION:VEN A DISFRUTAR EL DÉCIMO ANIVERSARIO DE LA PUIHUA CULTURAL 2024 \nEste tradicional evento\, llega a la comuna de Puyehue para vestir de colores el invierno \nMúsica\, artes\, danza\, cultura huilliche\, musica internacional\,  gastronomía\, artesania\, teatro\, juegos\, y mucho mas\, en este invierno sureño \nTe esperamos en Puyehue y ven a disfrutar del !!! FESTIVAL DE INVIERNO MAS IMPORTANTE DEL SUR DE CHILE!!!! \ndesde el 29 de Junio al 07 de Julio. \n\nRevisa la programación del tan esperado Festival de Invierno Puihua Cultural 2024.\n\n\nEntérate de todo lo que tenemos preparado para la comunidad y así recibir el inverno con alegría y diversión.\n\n\nEn este tan importante evento\, podrás encontrar actividades de todo tipo\, pensadas para cada sector de nuestra comuna.\n\n\nTe esperamos!!!
URL:https://puyehuechile.cl/evento/puihua-cultural-2024-decimo-aniversario/
LOCATION:CASA DE LA CULTURA DE ENTRE LAGOS\, Calle Bernardo O'higgins s/n\, Entre lagos\, Puyehue\, Chile
CATEGORIES:ARTESANIA,CULTURA,Danza,DEPORTE,FOMENTO LECTOR,GASTRONOMIA,INCLUSIVIDAD,Mapuche,MUJER,MUSEO,MÚSICA,NIÑOS Y NIÑAS,SUSTENTABILIDAD,Talleres,Teatro,TURISMO
ATTACH;FMTTYPE=image/jpeg:https://puyehuechile.cl/sitio/wp-content/uploads/2024/06/Puihua-2024-10anos-scaled.jpg
END:VEVENT
BEGIN:VEVENT
DTSTART;TZID=UTC:20240629T100000
DTEND;TZID=UTC:20240707T233000
DTSTAMP:20260419T223815
CREATED:20240614T194700Z
LAST-MODIFIED:20240625T133228Z
UID:4282-1719655200-1720395000@puyehuechile.cl
SUMMARY:CALENDARIO ACTIVIDADES DÉCIMO ANIVERSARIO PUIHUA CULTURAL 2024
DESCRIPTION:REVISA EL CALENDARIO DE ACTIVIDADES DE LA PUIHUA CULTURAL 2024 Y DISFRUTA DE 8 DÍAS DE ACTIVIDADES Y COLOR!!! \nTE ESPERAMOS EN PUYEHUE EN LA FIESTA CULTURAL MAS IMPORTANTE DEL SUR DE CHILE \nDEL 29 DE JUNIO AL 07 DE JULIO EN COMUNA DE PUYEHUE!!!! \n#YOSOYPUYEHUE \nwww.puyehuechile.cl \n@puyehuechile
URL:https://puyehuechile.cl/evento/calendario-actividades-decimo-aniversario-puihua-cultural-2024/
LOCATION:CASA DE LA CULTURA DE ENTRE LAGOS\, Calle Bernardo O'higgins s/n\, Entre lagos\, Puyehue\, Chile
CATEGORIES:ARTESANIA,CULTURA,Danza,DEPORTE,FOMENTO LECTOR,GASTRONOMIA,INCLUSIVIDAD,Mapuche,MUJER,MUSEO,MÚSICA,NIÑOS Y NIÑAS,SUSTENTABILIDAD,Talleres,Teatro,TURISMO
ATTACH;FMTTYPE=image/jpeg:https://puyehuechile.cl/sitio/wp-content/uploads/2024/06/PHOTO-2024-06-19-16-44-37.jpg
END:VEVENT
BEGIN:VEVENT
DTSTART;TZID=UTC:20240701T170000
DTEND;TZID=UTC:20240701T200000
DTSTAMP:20260419T223815
CREATED:20240701T193711Z
LAST-MODIFIED:20240701T193711Z
UID:4303-1719853200-1719864000@puyehuechile.cl
SUMMARY:OBRA TEATRO "LOS JUBILADOS"\, PUIHUA CULTURAL 2024
DESCRIPTION:Compañía de Teatro SOL DE OCASO\, presenta la obra LOS JUBILADOS. Obra inspirada en la tercera edad que te hará reír y llorar en un viaje muy emocionante \nMartes 01 en sede social de Desague Rupanco\, las 17:00 hrs \nte esperamos
URL:https://puyehuechile.cl/evento/obra-teatro-los-jubilados-puihua-cultural-2024/
LOCATION:SEDE DESAGÜE RUPANCO\, Desagüe Rupanco\, PUYEHUE\, Chile
CATEGORIES:CULTURA,Danza,FAMILIA,MUJER,MÚSICA,NIÑOS Y NIÑAS,Talleres,Teatro,TURISMO
ATTACH;FMTTYPE=image/jpeg:https://puyehuechile.cl/sitio/wp-content/uploads/2024/07/jubilados.jpeg
END:VEVENT
BEGIN:VEVENT
DTSTART;TZID=UTC:20240702T100000
DTEND;TZID=UTC:20240702T150000
DTSTAMP:20260419T223815
CREATED:20240701T202652Z
LAST-MODIFIED:20240701T202652Z
UID:4314-1719914400-1719932400@puyehuechile.cl
SUMMARY:MATEADA ADULTOS MAYORES\, PUIHUA CULTURAL 2024
DESCRIPTION:Como todos los años\, la Puihua cultural se reúne y entregar cultura a nuestros \nAcompáñanos y disfruta de nuestros adultos mayores en una actividad unica en entreb lagos \nDesde las 10:00 am en sede Ucam de Entre lagos
URL:https://puyehuechile.cl/evento/mateada-adultos-mayores-puihua-cultural-2024/
LOCATION:sede UCAM\, Entre Lagos\, Comuna de Puyehue\, Chile
CATEGORIES:ARTESANIA,CULTURA,Danza,FAMILIA,GASTRONOMIA,INCLUSIVIDAD,Mapuche,MEDIOAMBIENTE,MUJER,MÚSICA,NIÑOS Y NIÑAS,SUSTENTABILIDAD,Talleres,Teatro,TURISMO
ATTACH;FMTTYPE=image/jpeg:https://puyehuechile.cl/sitio/wp-content/uploads/2024/07/WhatsApp-Image-2024-06-30-at-19.00.50-1.jpeg
END:VEVENT
BEGIN:VEVENT
DTSTART;TZID=UTC:20240703T190000
DTEND;TZID=UTC:20240703T210000
DTSTAMP:20260419T223815
CREATED:20240702T223420Z
LAST-MODIFIED:20240702T223420Z
UID:4393-1720033200-1720040400@puyehuechile.cl
SUMMARY:Obra de teatro "LOS CARPINTEROS"\, PUIHUA CULTURAL 2024
DESCRIPTION:Una obra unica de gran trayectoria por primera vez en Entre lagos… \nven con la familia a disfrutar!!! \nENTRADAS LIMITADAS… PIDELAS EN LA OFICINA DE TURISMO Y CULTURA DE PUYEHUE\, EX INTERNADO LAS AMERICAS \nACTIVIDAD GRATIS \nCASONA CULTURAL A LAS 18:00 HRS. ENTRE LAGOS
URL:https://puyehuechile.cl/evento/obra-de-teatro-los-carpinteros-puihua-cultural-2024/
LOCATION:CASA DE LA CULTURA DE ENTRE LAGOS\, Calle Bernardo O'higgins s/n\, Entre lagos\, Puyehue\, Chile
CATEGORIES:ARTESANIA,CULTURA,Danza,FAMILIA,FOMENTO LECTOR,GASTRONOMIA,INCLUSIVIDAD,Mapuche,MEDIOAMBIENTE,MUJER,MÚSICA,NIÑOS Y NIÑAS,SUSTENTABILIDAD,Talleres,Teatro,TURISMO
ATTACH;FMTTYPE=image/jpeg:https://puyehuechile.cl/sitio/wp-content/uploads/2024/07/WhatsApp-Image-2024-06-30-at-19.00.52-1.jpeg
END:VEVENT
BEGIN:VEVENT
DTSTART;TZID=UTC:20240704T180000
DTEND;TZID=UTC:20240704T233000
DTSTAMP:20260419T223815
CREATED:20240702T223928Z
LAST-MODIFIED:20240702T223928Z
UID:4395-1720116000-1720135800@puyehuechile.cl
SUMMARY:ENCUENTRO INTERNACIONAL DE RAICES FOLCLORICAS\, PUIHUA CULTURAL 2024
DESCRIPTION:
URL:https://puyehuechile.cl/evento/encuentro-internacional-de-raices-folcloricas-puihua-cultural-2024/
LOCATION:CASA DE LA CULTURA DE ENTRE LAGOS\, Calle Bernardo O'higgins s/n\, Entre lagos\, Puyehue\, Chile
CATEGORIES:ARTESANIA,CULTURA,Danza,FAMILIA,FOMENTO LECTOR,GASTRONOMIA,INCLUSIVIDAD,Mapuche,MEDIOAMBIENTE,MUJER,MÚSICA,NIÑOS Y NIÑAS,SUSTENTABILIDAD,Talleres,Teatro,TURISMO
ATTACH;FMTTYPE=image/jpeg:https://puyehuechile.cl/sitio/wp-content/uploads/2024/07/WhatsApp-Image-2024-07-02-at-18.34.42.jpeg
END:VEVENT
BEGIN:VEVENT
DTSTART;TZID=UTC:20240704T180000
DTEND;TZID=UTC:20240704T233000
DTSTAMP:20260419T223815
CREATED:20240702T224051Z
LAST-MODIFIED:20240702T224051Z
UID:4414-1720116000-1720135800@puyehuechile.cl
SUMMARY:ENCUENTRO INTERNACIONAL DE RAICES FOLCLORICAS\, PUIHUA CULTURAL 2024
DESCRIPTION:
URL:https://puyehuechile.cl/evento/encuentro-internacional-de-raices-folcloricas-puihua-cultural-2024-2/
LOCATION:CASA DE LA CULTURA DE ENTRE LAGOS\, Calle Bernardo O'higgins s/n\, Entre lagos\, Puyehue\, Chile
CATEGORIES:ARTESANIA,CULTURA,Danza,FAMILIA,GASTRONOMIA,INCLUSIVIDAD,Mapuche,MEDIOAMBIENTE,MUJER,MÚSICA,NIÑOS Y NIÑAS,SUSTENTABILIDAD,Talleres,Teatro,TURISMO
ATTACH;FMTTYPE=image/jpeg:https://puyehuechile.cl/sitio/wp-content/uploads/2024/07/WhatsApp-Image-2024-07-02-at-18.34.42-2.jpeg
END:VEVENT
BEGIN:VEVENT
DTSTART;TZID=UTC:20240704T210000
DTEND;TZID=UTC:20240704T233000
DTSTAMP:20260419T223815
CREATED:20240702T224752Z
LAST-MODIFIED:20240702T224752Z
UID:4420-1720126800-1720135800@puyehuechile.cl
SUMMARY:ENCUENTRO INTERNACIONAL DE RAICES FOLCLORICAS\, PUIHUA CULTURAL 2024
DESCRIPTION:
URL:https://puyehuechile.cl/evento/encuentro-internacional-de-raices-folcloricas-puihua-cultural-2024-5/
LOCATION:CASA DE LA CULTURA DE ENTRE LAGOS\, Calle Bernardo O'higgins s/n\, Entre lagos\, Puyehue\, Chile
CATEGORIES:ARTESANIA,Danza,FAMILIA,GASTRONOMIA,INCLUSIVIDAD,MÚSICA,TURISMO
ATTACH;FMTTYPE=image/jpeg:https://puyehuechile.cl/sitio/wp-content/uploads/2024/07/WhatsApp-Image-2024-07-02-at-18.34.42-4.jpeg
END:VEVENT
BEGIN:VEVENT
DTSTART;TZID=UTC:20240704T210000
DTEND;TZID=UTC:20240704T233000
DTSTAMP:20260419T223815
CREATED:20240702T224916Z
LAST-MODIFIED:20240702T224916Z
UID:4422-1720126800-1720135800@puyehuechile.cl
SUMMARY:ENCUENTRO INTERNACIONAL DE RAICES FOLCLORICAS\, PUIHUA CULTURAL 2024
DESCRIPTION:
URL:https://puyehuechile.cl/evento/encuentro-internacional-de-raices-folcloricas-puihua-cultural-2024-6/
LOCATION:CASA DE LA CULTURA DE ENTRE LAGOS\, Calle Bernardo O'higgins s/n\, Entre lagos\, Puyehue\, Chile
CATEGORIES:ARTESANIA,Danza,GASTRONOMIA,INCLUSIVIDAD,MÚSICA,NIÑOS Y NIÑAS,TURISMO
ATTACH;FMTTYPE=image/jpeg:https://puyehuechile.cl/sitio/wp-content/uploads/2024/07/WhatsApp-Image-2024-07-02-at-18.34.42-5.jpeg
END:VEVENT
BEGIN:VEVENT
DTSTART;TZID=UTC:20240705T100000
DTEND;TZID=UTC:20240705T140000
DTSTAMP:20260419T223815
CREATED:20240702T225132Z
LAST-MODIFIED:20240702T225132Z
UID:4424-1720173600-1720188000@puyehuechile.cl
SUMMARY:DIA DE LA NIEVE Y LA FAMILIA\, PUIHUA CULTURAL PUYEHUE 2024
DESCRIPTION:
URL:https://puyehuechile.cl/evento/dia-de-la-nieve-y-la-familia-puihua-cultural-puyehue-2024/
LOCATION:EXPLANADA DE ENTRE LAGOS\, Costanera de Puyehue\, Entre lagos\, Puyehue\, Chile
CATEGORIES:ARTESANIA,CULTURA,Danza,DEPORTE,FAMILIA,GASTRONOMIA,INCLUSIVIDAD,MÚSICA,NIÑOS Y NIÑAS,SUSTENTABILIDAD,Talleres,Teatro,TURISMO
ATTACH;FMTTYPE=image/jpeg:https://puyehuechile.cl/sitio/wp-content/uploads/2024/07/WhatsApp-Image-2024-07-02-at-18.35.10.jpeg
END:VEVENT
BEGIN:VEVENT
DTSTART;TZID=UTC:20240705T110000
DTEND;TZID=UTC:20240705T130000
DTSTAMP:20260419T223815
CREATED:20240702T225948Z
LAST-MODIFIED:20240702T225948Z
UID:4433-1720177200-1720184400@puyehuechile.cl
SUMMARY:DIA DE LA NIEVE Y LA FAMILIA: JIM MALABARISTA\, PUIHUA CULTURAL PUYEHUE 2024
DESCRIPTION:
URL:https://puyehuechile.cl/evento/dia-de-la-nieve-y-la-familia-jim-malabarista-puihua-cultural-puyehue-2024/
LOCATION:EXPLANADA DE ENTRE LAGOS\, Costanera de Puyehue\, Entre lagos\, Puyehue\, Chile
CATEGORIES:CULTURA,Danza,FAMILIA,GASTRONOMIA,INCLUSIVIDAD,MUJER,MÚSICA,NIÑOS Y NIÑAS,Talleres,Teatro,TURISMO
ATTACH;FMTTYPE=image/jpeg:https://puyehuechile.cl/sitio/wp-content/uploads/2024/07/WhatsApp-Image-2024-07-02-at-18.35.10-1.jpeg
END:VEVENT
BEGIN:VEVENT
DTSTART;TZID=UTC:20240705T180000
DTEND;TZID=UTC:20240705T233000
DTSTAMP:20260419T223815
CREATED:20240702T225808Z
LAST-MODIFIED:20240702T225808Z
UID:4431-1720202400-1720222200@puyehuechile.cl
SUMMARY:FIESTA DE COLORES; PUIHUA CULTURAL 2024
DESCRIPTION:
URL:https://puyehuechile.cl/evento/fiesta-de-colores-puihua-cultural-2024/
LOCATION:Casa De La Cultura\, Bernardo O"Higgins SN\, Entre lagos\, Puyehue\, Chile
CATEGORIES:ARTESANIA,CULTURA,Danza,FAMILIA,GASTRONOMIA,INCLUSIVIDAD,MEDIOAMBIENTE,MUJER,MÚSICA,NIÑOS Y NIÑAS,SUSTENTABILIDAD,Talleres,Teatro,TURISMO
ATTACH;FMTTYPE=image/jpeg:https://puyehuechile.cl/sitio/wp-content/uploads/2024/07/WhatsApp-Image-2024-07-02-at-18.35.10-2.jpeg
END:VEVENT
BEGIN:VEVENT
DTSTART;TZID=UTC:20240705T190000
DTEND;TZID=UTC:20240705T210000
DTSTAMP:20260419T223815
CREATED:20240702T225312Z
LAST-MODIFIED:20240702T225312Z
UID:4427-1720206000-1720213200@puyehuechile.cl
SUMMARY:FIESTA DE COLORES: DOBLE DE KAROL G\, PUIHUA CULTURAL PUYEHUE 2024
DESCRIPTION:
URL:https://puyehuechile.cl/evento/fiesta-de-colores-doble-de-karol-g-puihua-cultural-puyehue-2024/
LOCATION:CASA DE LA CULTURA DE ENTRE LAGOS\, Calle Bernardo O'higgins s/n\, Entre lagos\, Puyehue\, Chile
CATEGORIES:ARTESANIA,CULTURA,Danza,DEPORTE,FAMILIA,GASTRONOMIA,INCLUSIVIDAD,MEDIOAMBIENTE,MUJER,MÚSICA,NIÑOS Y NIÑAS,SUSTENTABILIDAD,Talleres,TURISMO
ATTACH;FMTTYPE=image/jpeg:https://puyehuechile.cl/sitio/wp-content/uploads/2024/07/WhatsApp-Image-2024-07-02-at-18.35.10-3.jpeg
END:VEVENT
BEGIN:VEVENT
DTSTART;TZID=UTC:20240705T220000
DTEND;TZID=UTC:20240705T233000
DTSTAMP:20260419T223815
CREATED:20240702T225629Z
LAST-MODIFIED:20240702T225629Z
UID:4429-1720216800-1720222200@puyehuechile.cl
SUMMARY:FIESTA DE COLORES. DJ MC VISUAL; PUIHUA CULTURAL PUYEHUE 2024
DESCRIPTION:
URL:https://puyehuechile.cl/evento/fiesta-de-colores-dj-mc-visual-puihua-cultural-puyehue-2024/
LOCATION:CASA DE LA CULTURA DE ENTRE LAGOS\, Calle Bernardo O'higgins s/n\, Entre lagos\, Puyehue\, Chile
CATEGORIES:ARTESANIA,Danza,FAMILIA,GASTRONOMIA,MUJER,MÚSICA,NIÑOS Y NIÑAS,Talleres,Teatro,TURISMO
ATTACH;FMTTYPE=image/jpeg:https://puyehuechile.cl/sitio/wp-content/uploads/2024/07/WhatsApp-Image-2024-07-02-at-18.35.10-4.jpeg
END:VEVENT
BEGIN:VEVENT
DTSTART;TZID=UTC:20240706T110000
DTEND;TZID=UTC:20240706T150000
DTSTAMP:20260419T223815
CREATED:20240702T230153Z
LAST-MODIFIED:20240702T230153Z
UID:4435-1720263600-1720278000@puyehuechile.cl
SUMMARY:MUESTRA GASTRONOMIA PATRIMONIAL\, PUIHUA CULTURAL PUYEHUE 2024
DESCRIPTION:
URL:https://puyehuechile.cl/evento/muestra-gastronomia-patrimonial-puihua-cultural-puyehue-2024/
LOCATION:CASA DE LA CULTURA DE ENTRE LAGOS\, Calle Bernardo O'higgins s/n\, Entre lagos\, Puyehue\, Chile
CATEGORIES:ARTESANIA,FAMILIA,GASTRONOMIA,INCLUSIVIDAD,SUSTENTABILIDAD,TURISMO
ATTACH;FMTTYPE=image/jpeg:https://puyehuechile.cl/sitio/wp-content/uploads/2024/07/WhatsApp-Image-2024-07-02-at-18.36.06.jpeg
END:VEVENT
BEGIN:VEVENT
DTSTART;TZID=UTC:20240706T140000
DTEND;TZID=UTC:20240706T150000
DTSTAMP:20260419T223815
CREATED:20240702T230342Z
LAST-MODIFIED:20240702T230342Z
UID:4437-1720274400-1720278000@puyehuechile.cl
SUMMARY:MUESTRA GASTRONOMÍA PATRIMONIAL: SON DEL SUR; PUIHUA CULTURAL PUYEHUE 2024
DESCRIPTION:
URL:https://puyehuechile.cl/evento/muestra-gastronomia-patrimonial-son-del-sur-puihua-cultural-puyehue-2024/
LOCATION:CASA DE LA CULTURA DE ENTRE LAGOS\, Calle Bernardo O'higgins s/n\, Entre lagos\, Puyehue\, Chile
CATEGORIES:CULTURA,MÚSICA,TURISMO
ATTACH;FMTTYPE=image/jpeg:https://puyehuechile.cl/sitio/wp-content/uploads/2024/07/WhatsApp-Image-2024-07-02-at-18.35.53-1.jpeg
END:VEVENT
BEGIN:VEVENT
DTSTART;TZID=UTC:20240706T140000
DTEND;TZID=UTC:20240706T150000
DTSTAMP:20260419T223815
CREATED:20240702T230522Z
LAST-MODIFIED:20240702T230522Z
UID:4439-1720274400-1720278000@puyehuechile.cl
SUMMARY:MUESTRA GASTRONOMIA PATRIMONIAL: OSORNO BAILA; PUIHUA CULTURAL DE PUYEHUE 2024
DESCRIPTION:
URL:https://puyehuechile.cl/evento/muestra-gastronomia-patrimonial-osorno-baila-puihua-cultural-de-puyehue-2024/
LOCATION:CASA DE LA CULTURA DE ENTRE LAGOS\, Calle Bernardo O'higgins s/n\, Entre lagos\, Puyehue\, Chile
CATEGORIES:CULTURA,Danza,MÚSICA,TURISMO
ATTACH;FMTTYPE=image/jpeg:https://puyehuechile.cl/sitio/wp-content/uploads/2024/07/WhatsApp-Image-2024-07-02-at-18.35.53-2.jpeg
END:VEVENT
BEGIN:VEVENT
DTSTART;TZID=UTC:20240706T200000
DTEND;TZID=UTC:20240706T210000
DTSTAMP:20260419T223815
CREATED:20240702T230719Z
LAST-MODIFIED:20240702T230719Z
UID:4441-1720296000-1720299600@puyehuechile.cl
SUMMARY:NOCHE FINAL PUIHUA CULTURAL DE PUYEHUE 2024: CUMBIA 90
DESCRIPTION:
URL:https://puyehuechile.cl/evento/noche-final-puihua-cultural-de-puyehue-2024-cumbia-90/
LOCATION:CASA DE LA CULTURA DE ENTRE LAGOS\, Calle Bernardo O'higgins s/n\, Entre lagos\, Puyehue\, Chile
CATEGORIES:CULTURA,MÚSICA,TURISMO
ATTACH;FMTTYPE=image/jpeg:https://puyehuechile.cl/sitio/wp-content/uploads/2024/07/WhatsApp-Image-2024-07-02-at-18.35.53-3.jpeg
END:VEVENT
BEGIN:VEVENT
DTSTART;TZID=UTC:20240706T210000
DTEND;TZID=UTC:20240706T233000
DTSTAMP:20260419T223815
CREATED:20240702T230833Z
LAST-MODIFIED:20240702T230833Z
UID:4443-1720299600-1720308600@puyehuechile.cl
SUMMARY:NOCHE FINAL PUIHUA CULTURAL DE PUYEHUE 2024: SONORA BARON
DESCRIPTION:
URL:https://puyehuechile.cl/evento/noche-final-puihua-cultural-de-puyehue-2024-sonora-baron/
LOCATION:CASA DE LA CULTURA DE ENTRE LAGOS\, Calle Bernardo O'higgins s/n\, Entre lagos\, Puyehue\, Chile
CATEGORIES:CULTURA,MÚSICA,TURISMO
ATTACH;FMTTYPE=image/jpeg:https://puyehuechile.cl/sitio/wp-content/uploads/2024/07/WhatsApp-Image-2024-07-02-at-18.35.53-4.jpeg
END:VEVENT
BEGIN:VEVENT
DTSTART;TZID=UTC:20240707T120000
DTEND;TZID=UTC:20240707T190000
DTSTAMP:20260419T223815
CREATED:20240702T231004Z
LAST-MODIFIED:20240702T231004Z
UID:4445-1720353600-1720378800@puyehuechile.cl
SUMMARY:MUESTRA ESPECIALIDADES CAMPESINAS\, PUIHUA CULTURAL DE PUYEHUE 2024
DESCRIPTION:
URL:https://puyehuechile.cl/evento/muestra-especialidades-campesinas-puihua-cultural-de-puyehue-2024/
LOCATION:CASA DE LA CULTURA DE ENTRE LAGOS\, Calle Bernardo O'higgins s/n\, Entre lagos\, Puyehue\, Chile
CATEGORIES:ARTESANIA,CULTURA,GASTRONOMIA,MÚSICA,SUSTENTABILIDAD,TURISMO
ATTACH;FMTTYPE=image/jpeg:https://puyehuechile.cl/sitio/wp-content/uploads/2024/07/WhatsApp-Image-2024-07-02-at-18.36.06.jpeg
END:VEVENT
BEGIN:VEVENT
DTSTART;TZID=UTC:20240724T150000
DTEND;TZID=UTC:20240724T180000
DTSTAMP:20260419T223815
CREATED:20240722T204915Z
LAST-MODIFIED:20240722T205001Z
UID:4582-1721833200-1721844000@puyehuechile.cl
SUMMARY:Capacitación para Mujeres Emprendedoras Puyehue
DESCRIPTION:Queremos invitarte cordialmente a una capacitación especial diseñada para mujeres emprendedoras.  Este evento es una excelente oportunidad para aprender\, compartir experiencias y fortalecer nuestras habilidades empresariales. \nDetalles del Evento:\n Fecha: Miércoles 24 de julio.\n Hora: 15:00 horas.\n Lugar: Parque Acuario Puyehue. \nExpositoras:\n\nRosa Villalobos Castro: «Empoderamiento femenino y liderazgo empresarial».\nCatalina Saiz de la Llana: «Economía circular y modelo de negocios sostenibles».\n\nEstamos seguros de que será una experiencia enriquecedora y motivadora. ¡No te lo pierdas!. \nPara inscribirte\, por favor completa el siguiente formulario:\nFormulario de inscripción \nAgradecemos de antemano tu participación y esperamos contar con tu presencia. Si tienes alguna pregunta o necesitas más información\, no dudes en contactarnos. \n¡Nos vemos en el evento!. \nSaludos cordiales. \n+ información en: https://www.diarioemprende.cl/noticia/test-nota/2024/07/realizaran-talleres-de-empoderamiento-femenino-y-economia-circular-en-puyehue
URL:https://puyehuechile.cl/evento/capacitacion-para-mujeres-emprendedoras-puyehue/
LOCATION:PARQUE ACUARIO PUYEHUE\, Ruta Interlagos. T 981 U\, km 3 Chiscaihue\, comuna Río Bueno. 1\,5 km antes\, Entre lagos\, OSORNO\, Chile
CATEGORIES:FOMENTO,INCLUSIVIDAD,MUJER,SUSTENTABILIDAD,TURISMO
ATTACH;FMTTYPE=image/png:https://puyehuechile.cl/sitio/wp-content/uploads/2024/07/CAPACITACION-MUJERES-EMPRENDEDORAS.png
END:VEVENT
END:VCALENDAR