BEGIN:VCALENDAR
VERSION:2.0
PRODID:-//Turismo Puyehue - ECPv6.8.1//NONSGML v1.0//EN
CALSCALE:GREGORIAN
METHOD:PUBLISH
X-ORIGINAL-URL:https://puyehuechile.cl
X-WR-CALDESC:Eventos para Turismo Puyehue
REFRESH-INTERVAL;VALUE=DURATION:PT1H
X-Robots-Tag:noindex
X-PUBLISHED-TTL:PT1H
BEGIN:VTIMEZONE
TZID:UTC
BEGIN:STANDARD
TZOFFSETFROM:+0000
TZOFFSETTO:+0000
TZNAME:UTC
DTSTART:20230101T000000
END:STANDARD
END:VTIMEZONE
BEGIN:VEVENT
DTSTART;TZID=UTC:20230201T080000
DTEND;TZID=UTC:20230226T170000
DTSTAMP:20260426T014758
CREATED:20230202T201059Z
LAST-MODIFIED:20230202T201059Z
UID:2458-1675238400-1677430800@puyehuechile.cl
SUMMARY:TALLER DE NATACIÓN
DESCRIPTION:Se invita a Participar del taller de Natación de Verano\, los días Martes y Jueves a partir de las 12:30 hrs. En la Costanera Entre Lagos. Las Inscripciones se encuentran abiertas\, Comunicarse con el profesor Camilo Castillo al WhatsApp +56945323454.
URL:https://puyehuechile.cl/evento/taller-de-natacion/
LOCATION:Costanera Entre Lagos\, Playa Puyehue\, Entre Lagos\, Comuna de Puyehue\, Chile
CATEGORIES:NIÑOS Y NIÑAS,TURISMO
ATTACH;FMTTYPE=image/png:https://puyehuechile.cl/sitio/wp-content/uploads/2023/02/TALLER-DE-NATACION.png
END:VEVENT
BEGIN:VEVENT
DTSTART;TZID=UTC:20230203T190000
DTEND;TZID=UTC:20230203T233000
DTSTAMP:20260426T014758
CREATED:20230127T182727Z
LAST-MODIFIED:20230201T182525Z
UID:2407-1675450800-1675467000@puyehuechile.cl
SUMMARY:SHOW EMPRENDEDORES
DESCRIPTION:Evento donde habrán emprendedores locales\, Artesanías\, Cerveza\, Gastronomía\, Juegos\, Actividades Y más… además artistas locales y folclore\, Bastián Rivera\, Conjunto Folclórico Entre Cordilleras\, The Full Nation y Sonora Mix
URL:https://puyehuechile.cl/evento/show-emprendedores/
LOCATION:Costanera Entre Lagos\, Playa Puyehue\, Entre Lagos\, Comuna de Puyehue\, Chile
CATEGORIES:ARTESANIA,CULTURA,GASTRONOMIA,TURISMO
ATTACH;FMTTYPE=image/png:https://puyehuechile.cl/sitio/wp-content/uploads/2023/01/SHOW-DE-EMPRENDEDORES.png
END:VEVENT
BEGIN:VEVENT
DTSTART;TZID=UTC:20230204T080000
DTEND;TZID=UTC:20230205T120000
DTSTAMP:20260426T014758
CREATED:20230119T172125Z
LAST-MODIFIED:20230127T183851Z
UID:2358-1675497600-1675598400@puyehuechile.cl
SUMMARY:EXPO EMPRENDEDORAS
DESCRIPTION:Podrás ver los productos realizados por las mujeres de nuestra comuna
URL:https://puyehuechile.cl/evento/expo-emprendedoras-3/
LOCATION:Explanada Entre Lagos\, Entre lagos\, Puyehue\, Chile
CATEGORIES:ARTESANIA,CULTURA,MUJER,TURISMO
ATTACH;FMTTYPE=image/jpeg:https://puyehuechile.cl/sitio/wp-content/uploads/2023/01/EXPO-EMPRENDEDORAS.jpeg
END:VEVENT
BEGIN:VEVENT
DTSTART;TZID=UTC:20230204T100000
DTEND;TZID=UTC:20230204T120000
DTSTAMP:20260426T014758
CREATED:20221227T142331Z
LAST-MODIFIED:20230131T175350Z
UID:2226-1675504800-1675512000@puyehuechile.cl
SUMMARY:3RA FERIA CONSTUMBRISTA HORTALIZAS EL ENCANTO
DESCRIPTION:Muestra de productos y comida típica de la comuna de Puyehue\, Juegos Típicos; Torneo de Rayuela\, Tirar la cuerda\, etc. En la Animación del Evento estará Sebastián Habert. Además habrá Artistas Invitados como los grupos «Amor Ranchero» y «Huella Sureña». Grupo Folclórico «Entre Cordilleras»
URL:https://puyehuechile.cl/evento/3ra-feria-constumbrista-el-encanto/
LOCATION:EL ENCANTO CENTRO\, Entre Lagos\, Comuna de Puyuehue
CATEGORIES:ARTESANIA,CULTURA,GASTRONOMIA,TURISMO
ATTACH;FMTTYPE=image/png:https://puyehuechile.cl/sitio/wp-content/uploads/2022/12/fiesta-costumbrista-hortalizas.png
END:VEVENT
BEGIN:VEVENT
DTSTART;TZID=UTC:20230204T100000
DTEND;TZID=UTC:20230204T233000
DTSTAMP:20260426T014758
CREATED:20230131T181527Z
LAST-MODIFIED:20230131T181527Z
UID:2431-1675504800-1675553400@puyehuechile.cl
SUMMARY:EXPO FIESTA TROPICAL
DESCRIPTION:Feria de Emprendedoras Locales donde se destaca la Innovación y sustentabilidad\, habrá emprendedores Invitados y Stand Institucionales. Además habrá Show en Vivo con el grupo Musical «El Embrujo\, Cumbia que te Encanta»
URL:https://puyehuechile.cl/evento/expo-fiesta-tropical/
LOCATION:Explanada Entre Lagos\, Entre lagos\, Puyehue\, Chile
CATEGORIES:ARTESANIA,CULTURA,GASTRONOMIA,MUJER,TURISMO
ATTACH;FMTTYPE=image/png:https://puyehuechile.cl/sitio/wp-content/uploads/2023/01/expo-fiesta-tropical.png
END:VEVENT
BEGIN:VEVENT
DTSTART;TZID=UTC:20230204T100000
DTEND;TZID=UTC:20230205T130000
DTSTAMP:20260426T014758
CREATED:20221227T141017Z
LAST-MODIFIED:20230120T160139Z
UID:2213-1675504800-1675602000@puyehuechile.cl
SUMMARY:1° FIESTA COSTUMBRISTA DE LA COMUNIDAD RURAL QUEMA DEL BUEY\, PUYEHUE
DESCRIPTION:Fiesta Costumbrista donde habrá gastronomía y productos típicos de la zona.
URL:https://puyehuechile.cl/evento/1-fiesta-costumbrista-de-la-comunidad-rural-quema-del-buey-puyehue/
LOCATION:Quema dela Buey\, Entre Lagos\, Comuna de Puyehue\, Chile
CATEGORIES:ARTESANIA,CULTURA,GASTRONOMIA,Mapuche,MUJER,NIÑOS Y NIÑAS,TURISMO
ATTACH;FMTTYPE=image/jpeg:https://puyehuechile.cl/sitio/wp-content/uploads/2022/12/WhatsApp-Image-2023-01-18-at-09.40.38.jpeg
END:VEVENT
BEGIN:VEVENT
DTSTART;TZID=UTC:20230205T100000
DTEND;TZID=UTC:20230205T220000
DTSTAMP:20260426T014758
CREATED:20230131T182832Z
LAST-MODIFIED:20230131T182832Z
UID:2434-1675591200-1675634400@puyehuechile.cl
SUMMARY:EXPO FIESTA TROPICAL
DESCRIPTION:Feria de Emprendedoras Locales donde se Destaca la Innovación Sustentabilidad\, Habrá Emprendedores Invitados y Stand Institucionales. Además Habrá Actividad Familiar\, Zumba y Entretención.
URL:https://puyehuechile.cl/evento/expo-fiesta-tropical-2/
LOCATION:Explanada Entre Lagos\, Entre lagos\, Puyehue\, Chile
CATEGORIES:ARTESANIA,CULTURA,GASTRONOMIA,MUJER,TURISMO
ATTACH;FMTTYPE=image/png:https://puyehuechile.cl/sitio/wp-content/uploads/2023/01/expo-fiesta-tropical-2.png
END:VEVENT
BEGIN:VEVENT
DTSTART;TZID=UTC:20230210T120000
DTEND;TZID=UTC:20230211T233000
DTSTAMP:20260426T014758
CREATED:20230131T190956Z
LAST-MODIFIED:20230202T132508Z
UID:2437-1676030400-1676158200@puyehuechile.cl
SUMMARY:FIESTA COSTUMBRISTA PILMAIQUEN
DESCRIPTION:Fiesta Costumbrista Semana Pilmaiquén donde habrá Gastronomía\, Artesanía\, Música Y Show en Vivo\, Artistas Invitados Doble de Ana Gabriel y Show Ranchero.
URL:https://puyehuechile.cl/evento/fiesta-costumbrista-pilmaiquen/
LOCATION:Pilmaiquien\, Entre Lagos\, Comuna de Puyuehue\, Chile
CATEGORIES:ARTESANIA,GASTRONOMIA,TURISMO
ATTACH;FMTTYPE=image/png:https://puyehuechile.cl/sitio/wp-content/uploads/2023/01/semana-pilmaiquen.png
END:VEVENT
BEGIN:VEVENT
DTSTART;TZID=UTC:20230211T100000
DTEND;TZID=UTC:20230212T190000
DTSTAMP:20260426T014758
CREATED:20221227T154953Z
LAST-MODIFIED:20230124T201019Z
UID:2267-1676109600-1676228400@puyehuechile.cl
SUMMARY:II FIESTA COSTUMBRISTA GÉNESIS
DESCRIPTION:Fiesta Costumbrista organizada por la Agrupación Femenina Génesis\, Donde Encontrarás comida y bebidas típicas de la zona\, Artesanía\, Folclore y juegos típicos. Además se estará presentando la Artistas Carolina Becerra y grupo musical «Rancheros de la Décima».
URL:https://puyehuechile.cl/evento/ii-fiesta-costumbrista-genesis/
LOCATION:pulelfu\, Entre Lagos\, Comuna de Puyehue\, Chile
CATEGORIES:ARTESANIA,CULTURA,GASTRONOMIA,Mapuche,NIÑOS Y NIÑAS,TURISMO
ATTACH;FMTTYPE=image/jpeg:https://puyehuechile.cl/sitio/wp-content/uploads/2022/12/fiesta-costumbrista-Genesis.jpeg
END:VEVENT
BEGIN:VEVENT
DTSTART;TZID=UTC:20230211T120000
DTEND;TZID=UTC:20230212T233000
DTSTAMP:20260426T014758
CREATED:20230127T144640Z
LAST-MODIFIED:20230207T151633Z
UID:2404-1676116800-1676244600@puyehuechile.cl
SUMMARY:4 FIESTA COSTUMBRISTA ENTRELAGUINA 2023
DESCRIPTION:Fiesta Costumbrista donde habrá Carreras a la Chilena\, Campeonato de Rayuela\, Muestra de Bueyes\, Carrera de Perros Galgos\, Barriletes\, Esquila de Ovejas. También encontrarás Gastronomía típica de la Zona. Evento Gratuito que partirá desde las 12 horas y estará ubicada en el cruce de Puerto Chalupa.  Además habrá Artistas Invitados como: \n\nSábado 11\n\n\nÁngeles del Ritmo\nGrupo Folclórico Copihue de Mi Tierra\nGrupo Folclórico Entre Cordilleras\nLos Dinos\n\n\nDomingo 12\n\n\nVientos Rancheros\nGrupo Folclórico Chamanto y Espuela\nGrupo Folclórico Michay\nLos Renacer de La Cumbia
URL:https://puyehuechile.cl/evento/4-fiesta-costumbrista-entrelaguina-2023/
LOCATION:Frente Supermercado 215\, Entre Lagos\, Comuna de Puyehue\, Chile
CATEGORIES:ARTESANIA,CULTURA,GASTRONOMIA,TURISMO
ATTACH;FMTTYPE=image/jpeg:https://puyehuechile.cl/sitio/wp-content/uploads/2023/01/FIESTA-COSTUMBRISTA-ENTRE-LAGOS.jpeg
END:VEVENT
BEGIN:VEVENT
DTSTART;TZID=UTC:20230213T100000
DTEND;TZID=UTC:20230214T200000
DTSTAMP:20260426T014758
CREATED:20230119T175654Z
LAST-MODIFIED:20230119T175654Z
UID:2371-1676282400-1676404800@puyehuechile.cl
SUMMARY:PRE SELECCIÓN CASTING EN VIVO
DESCRIPTION:Selección de participantes del festival internacional de la música mexicana. \nHorarios \n10:00 – 14:00 HRS \n15:00 – 20:00 HRS
URL:https://puyehuechile.cl/evento/pre-seleccion-casting-en-vivo/
LOCATION:Casa De La Cultura\, Bernardo O"Higgins SN\, Entre lagos\, Puyehue\, Chile
CATEGORIES:CULTURA,TURISMO
ATTACH;FMTTYPE=image/jpeg:https://puyehuechile.cl/sitio/wp-content/uploads/2023/01/WhatsApp-Image-2023-01-19-at-14.50.55.jpeg
END:VEVENT
BEGIN:VEVENT
DTSTART;TZID=UTC:20230214T080000
DTEND;TZID=UTC:20230214T170000
DTSTAMP:20260426T014758
CREATED:20230127T183603Z
LAST-MODIFIED:20230127T183603Z
UID:2410-1676361600-1676394000@puyehuechile.cl
SUMMARY:SHOW DEL AMOR  Y LA AMISTAD
DESCRIPTION:
URL:https://puyehuechile.cl/evento/show-del-amor-y-la-amistad/
LOCATION:Costanera Entre Lagos\, Playa Puyehue\, Entre Lagos\, Comuna de Puyehue\, Chile
CATEGORIES:ARTESANIA,CULTURA,GASTRONOMIA,TURISMO
END:VEVENT
BEGIN:VEVENT
DTSTART;TZID=UTC:20230216T080000
DTEND;TZID=UTC:20230218T170000
DTSTAMP:20260426T014758
CREATED:20221122T143648Z
LAST-MODIFIED:20230212T153318Z
UID:2167-1676534400-1676739600@puyehuechile.cl
SUMMARY:FESTIVAL INTERNACIONAL DE MUSICA MEXICANA
DESCRIPTION:Tradicional con mas de 30 años que muestra lo mejor de la voz de la música mexicana
URL:https://puyehuechile.cl/evento/festival-internacional-de-musica-mexicana/
LOCATION:Explanada Entre Lagos\, Entre lagos\, Puyehue\, Chile
CATEGORIES:ARTESANIA,CULTURA,GASTRONOMIA,MUJER,NIÑOS Y NIÑAS,TURISMO
ATTACH;FMTTYPE=image/png:https://puyehuechile.cl/sitio/wp-content/uploads/2022/11/Festival-Mexicano.png
END:VEVENT
BEGIN:VEVENT
DTSTART;TZID=UTC:20230216T210000
DTEND;TZID=UTC:20230216T233000
DTSTAMP:20260426T014758
CREATED:20230210T203517Z
LAST-MODIFIED:20230210T203517Z
UID:2681-1676581200-1676590200@puyehuechile.cl
SUMMARY:PRIMER DÍA DEL FESTIVAL INTERNACIONAL MEXICANO 2023
DESCRIPTION:Comienzo del Festival Internacional de la Música Mexicana Puyehue 2023\, donde se presentarán diversos concursantes y además habrá un show con artistas locales e invitados. abriendo la noche el «Grupo Entre Cordilleras»\, siguiendo con el grupo «Sonora Mix» y para terminar la noche los artistas del momento «Zúmbale Primo»
URL:https://puyehuechile.cl/evento/primer-dia-del-festival-internacional-mexicano-2023/
LOCATION:Explanada Entre Lagos\, Entre lagos\, Puyehue\, Chile
CATEGORIES:CULTURA,MÚSICA,TURISMO
ATTACH;FMTTYPE=image/png:https://puyehuechile.cl/sitio/wp-content/uploads/2023/02/zumbale-primo.png
END:VEVENT
BEGIN:VEVENT
DTSTART;TZID=UTC:20230217T100000
DTEND;TZID=UTC:20230217T140000
DTSTAMP:20260426T014758
CREATED:20230119T173733Z
LAST-MODIFIED:20230202T192740Z
UID:2366-1676628000-1676642400@puyehuechile.cl
SUMMARY:CORRIDA FAMILIAR PILMAIQUÉN
DESCRIPTION:Evento Deportivo que invita a la comunidad a participar de la Primera Corrida Familiar 5k Pilmaiquén. Las Inscripciones se encuentran abiertas desde el 01 al 15 de febrero. lo puedes realizar en la sede junta de vecinos Pilmaiquén\, a través del WhatsApp +56934145819 o a través de la página web www.culturapilmaiquen.cl.
URL:https://puyehuechile.cl/evento/corrida-familiar/
LOCATION:Plaza de Pilmaiquen\, Ruta 215\, Pilmaiquen\, Comuna de Puyehue\, Chile
CATEGORIES:CULTURA,TURISMO
ATTACH;FMTTYPE=image/png:https://puyehuechile.cl/sitio/wp-content/uploads/2023/01/corrida-pilmaiquen.png
END:VEVENT
BEGIN:VEVENT
DTSTART;TZID=UTC:20230217T210000
DTEND;TZID=UTC:20230217T210000
DTSTAMP:20260426T014758
CREATED:20230210T204654Z
LAST-MODIFIED:20230210T205627Z
UID:2684-1676667600-1676667600@puyehuechile.cl
SUMMARY:SEGUNDO DIA FESTIVAL INTERNACIONAL MEXICANO 2023
DESCRIPTION:Segundo día del Festival Internacional de la Música Mexicana 2023\, donde Además de los concursantes al Festival Habrá diversos Artistas invitados como el conjunto folclórico «Hijos de la Tierra» continuando con «Los Rancheros de Puyehue» y culminando con el grupo «Arremacho»
URL:https://puyehuechile.cl/evento/segundo-dia-festival-mexicano-2023/
LOCATION:Explanada Entre Lagos\, Entre lagos\, Puyehue\, Chile
CATEGORIES:CULTURA,MÚSICA,TURISMO
ATTACH;FMTTYPE=image/png:https://puyehuechile.cl/sitio/wp-content/uploads/2023/02/Arremacho-1.png
END:VEVENT
BEGIN:VEVENT
DTSTART;VALUE=DATE:20230218
DTEND;VALUE=DATE:20230219
DTSTAMP:20260426T014758
CREATED:20230117T191053Z
LAST-MODIFIED:20230120T160755Z
UID:2345-1676678400-1676764799@puyehuechile.cl
SUMMARY:1er FESTIVAL DE LA PAPA PRECORDILLERANA
DESCRIPTION:EVENTO DONDE CONOCERÁS UN PRODUCTO TÍPICO DE LA ZONA Y SUS DIVERSAS PREPARACIONES
URL:https://puyehuechile.cl/evento/1er-festival-de-la-papa-precordillerana/
LOCATION:PULELFU\, LAS PARRAS\, Entre Lagos\, Comuna de Puyuehue\, Chile
CATEGORIES:ARTESANIA,CULTURA,GASTRONOMIA,Mapuche,TURISMO
ATTACH;FMTTYPE=image/jpeg:https://puyehuechile.cl/sitio/wp-content/uploads/2023/01/WhatsApp-Image-2023-01-20-at-09.41.16.jpeg
END:VEVENT
BEGIN:VEVENT
DTSTART;TZID=UTC:20230218T100000
DTEND;TZID=UTC:20230218T230000
DTSTAMP:20260426T014758
CREATED:20230209T181644Z
LAST-MODIFIED:20230215T141854Z
UID:2526-1676714400-1676761200@puyehuechile.cl
SUMMARY:FIESTA COSTUMBRISTA VILLORIO LOS NEGROS
DESCRIPTION:
URL:https://puyehuechile.cl/evento/fiesta-costumbrista-villorio-los-negros/
LOCATION:LOS NEGROS\, Villorio Los Negros\, Comuna de Puyehue\, Chile
CATEGORIES:ARTESANIA,CULTURA,GASTRONOMIA,TURISMO
END:VEVENT
BEGIN:VEVENT
DTSTART;TZID=UTC:20230218T210000
DTEND;TZID=UTC:20230218T210000
DTSTAMP:20260426T014758
CREATED:20230210T205233Z
LAST-MODIFIED:20230210T205548Z
UID:2688-1676754000-1676754000@puyehuechile.cl
SUMMARY:TERCER DÍA DEL FESTIVAL INTERNACIONAL MEXICANO 2023
DESCRIPTION:Último día del festival de música Mexicana 2023\, donde se estará premiando a los ganadores y además artistas invitados «Los Puyehuitos» continuando con » Límite Ranchero» y culminando la jornada con el grupo «Los Machos de la Cumbia»
URL:https://puyehuechile.cl/evento/tercer-dia-del-festival-mexicano-2023/
LOCATION:Explanada Entre Lagos\, Entre lagos\, Puyehue\, Chile
CATEGORIES:CULTURA,MÚSICA,TURISMO
ATTACH;FMTTYPE=image/png:https://puyehuechile.cl/sitio/wp-content/uploads/2023/02/los-machos-de-la-cumbia.png
END:VEVENT
BEGIN:VEVENT
DTSTART;TZID=UTC:20230219T100000
DTEND;TZID=UTC:20230219T200000
DTSTAMP:20260426T014758
CREATED:20221227T154301Z
LAST-MODIFIED:20230210T194459Z
UID:2265-1676800800-1676836800@puyehuechile.cl
SUMMARY:FERIA ARTESANAL INCLUSIVA
DESCRIPTION:Feria Artesanal orientada a personas en situación de discapacidad donde habrá artesanía en cueros\, Orfebrería\, Artes Textiles\, Artesanía en Maderas\, productos locales entre otros.
URL:https://puyehuechile.cl/evento/feria-de-inclusion/
LOCATION:Explanada Entre Lagos\, Entre lagos\, Puyehue\, Chile
CATEGORIES:ARTESANIA,CULTURA,GASTRONOMIA,Mapuche,TURISMO
ATTACH;FMTTYPE=image/png:https://puyehuechile.cl/sitio/wp-content/uploads/2022/12/Feria-de-Inclusion.png
END:VEVENT
BEGIN:VEVENT
DTSTART;TZID=UTC:20230224T100000
DTEND;TZID=UTC:20230224T233000
DTSTAMP:20260426T014758
CREATED:20230119T174419Z
LAST-MODIFIED:20230221T195101Z
UID:2368-1677232800-1677281400@puyehuechile.cl
SUMMARY:FIESTA DEL CORDERO día 1
DESCRIPTION:Asado del cordero más grande de chile\, muestra de artesanía\, Especialidades Campesinas y comidas tradicionales. Además se presentarán los siguientes grupos: \n\n17:30 hrs. Conjunto Folclórico Entre Cordilleras\n18:30 hrs. Conjunto Folclórico Paula Jaraquemada\n20:00 hrs. Los Reyes\n\n 
URL:https://puyehuechile.cl/evento/fiesta-del-cordero/
LOCATION:Frente Supermercado 215\, Entre Lagos\, Comuna de Puyehue\, Chile
CATEGORIES:ARTESANIA,CULTURA,GASTRONOMIA,MÚSICA,TURISMO
ATTACH;FMTTYPE=image/jpeg:https://puyehuechile.cl/sitio/wp-content/uploads/2023/01/WhatsApp-Image-2023-02-14-at-17.40.28.jpeg
END:VEVENT
BEGIN:VEVENT
DTSTART;TZID=UTC:20230225T100000
DTEND;TZID=UTC:20230225T233000
DTSTAMP:20260426T014758
CREATED:20230221T141303Z
LAST-MODIFIED:20230221T195340Z
UID:2700-1677319200-1677367800@puyehuechile.cl
SUMMARY:FIESTA DEL CORDERO día 2
DESCRIPTION:Muestra Gastronómica donde encontrarás Artesanía\, comidas tradicionales\, además habrá Destreza Ecuestres\, Torneo de Rayuela y Show Artístico donde se presentarán los siguientes artistas: \n\n17:00 hrs. Conjunto Folclórico Ka´A te Mata\n18:00 hrs. Fiesta Campera\n20:00 hrs. Rancheros de Puyehue
URL:https://puyehuechile.cl/evento/fiesta-del-cordero-dia-2/
LOCATION:Frente Supermercado 215\, Entre Lagos\, Comuna de Puyehue\, Chile
CATEGORIES:ARTESANIA,CULTURA,DEPORTE,GASTRONOMIA,MÚSICA,TURISMO
ATTACH;FMTTYPE=image/jpeg:https://puyehuechile.cl/sitio/wp-content/uploads/2023/01/WhatsApp-Image-2023-02-14-at-17.40.28.jpeg
END:VEVENT
BEGIN:VEVENT
DTSTART;TZID=UTC:20230226T100000
DTEND;TZID=UTC:20230226T233000
DTSTAMP:20260426T014758
CREATED:20230221T142402Z
LAST-MODIFIED:20230221T195912Z
UID:2702-1677405600-1677454200@puyehuechile.cl
SUMMARY:FIESTA DEL CORDERO día 3
DESCRIPTION:Día de la Chilenidad con el gran Cuecazo\, Torneo de Rayuela \, una muestra de Artesanía\, Especialidades Campesinas y Comidas Tradicionales\, Además habrá Show Artístico donde se presentará: \n\n14:30 hrs. Grupo Almendral de Osorno\n16:00 hrs. Grupo Alborada de Temuco\n18:30 hrs. Límite Ranchero
URL:https://puyehuechile.cl/evento/fiesta-del-cordero-dia-3/
LOCATION:Frente Supermercado 215\, Entre Lagos\, Comuna de Puyehue\, Chile
CATEGORIES:ARTESANIA,CULTURA,GASTRONOMIA,Mapuche,MÚSICA,TURISMO
ATTACH;FMTTYPE=image/jpeg:https://puyehuechile.cl/sitio/wp-content/uploads/2023/01/WhatsApp-Image-2023-02-14-at-17.40.28.jpeg
END:VEVENT
END:VCALENDAR