BEGIN:VCALENDAR
VERSION:2.0
PRODID:-//Turismo Puyehue - ECPv6.8.1//NONSGML v1.0//EN
CALSCALE:GREGORIAN
METHOD:PUBLISH
X-ORIGINAL-URL:https://puyehuechile.cl
X-WR-CALDESC:Eventos para Turismo Puyehue
REFRESH-INTERVAL;VALUE=DURATION:PT1H
X-Robots-Tag:noindex
X-PUBLISHED-TTL:PT1H
BEGIN:VTIMEZONE
TZID:UTC
BEGIN:STANDARD
TZOFFSETFROM:+0000
TZOFFSETTO:+0000
TZNAME:UTC
DTSTART:20220101T000000
END:STANDARD
END:VTIMEZONE
BEGIN:VEVENT
DTSTART;TZID=UTC:20240127T200000
DTEND;TZID=UTC:20240128T080000
DTSTAMP:20260420T133252
CREATED:20240117T141950Z
LAST-MODIFIED:20240117T142048Z
UID:4098-1706385600-1706428800@puyehuechile.cl
SUMMARY:ÚLTIMA NOCHE DE NUESTRA SEMANA ENTRELAGUINA
DESCRIPTION:Hoy daremos fin a nuestra SEMANA ENTRELAGUINA 2024\, será una noche especial\, pues\, disfrutaremos del espectáculo artístico y creativo de los Carros Alegóricos y cerraremos con broche de oro junto al reconocido artista nacional AMÉRICO. \nTE ESPERAMOS DESDE LAS 20:00 HRS EN EXPLANADA #YOSOYPUYEHUE #PUYEHUECHILE
URL:https://puyehuechile.cl/evento/ultima-noche-de-nuestra-semana-entrelaguina/
LOCATION:Explanada Entre Lagos\, Entre lagos\, Puyehue\, Chile
CATEGORIES:ARTESANIA,CULTURA,Danza,DEPORTE,GASTRONOMIA,INCLUSIVIDAD,Mapuche,MUJER,MÚSICA,NIÑOS Y NIÑAS,Talleres,Teatro,TURISMO
ATTACH;FMTTYPE=image/jpeg:https://puyehuechile.cl/sitio/wp-content/uploads/2024/01/WhatsApp-Image-2024-01-17-at-09.35.59-1.jpeg
END:VEVENT
BEGIN:VEVENT
DTSTART;TZID=UTC:20240126T200000
DTEND;TZID=UTC:20240127T080000
DTSTAMP:20260420T133252
CREATED:20240117T140357Z
LAST-MODIFIED:20240117T142315Z
UID:4094-1706299200-1706342400@puyehuechile.cl
SUMMARY:DÍA #4 SEMANA ENTRELAGUINA
DESCRIPTION:Cuarta noche!!! en nuestra SEMANA ENTRELAGUINA 2024\, hoy será especial\, ya que\, será la coronación de nuestra Reina de Puyehue. Celebraremos y bailaremos al ritmo de la cumbia con SANTA FERIA. \nTE ESPERAMOS DESDE LAS 20:00 HRS EN EXPLANADA #YOSOYPUYEHUE #PUYEHUECHILE
URL:https://puyehuechile.cl/evento/dia-4-semana-entrelaguina/
LOCATION:Explanada Entre Lagos\, Entre lagos\, Puyehue\, Chile
CATEGORIES:ARTESANIA,CULTURA,Danza,DEPORTE,GASTRONOMIA,INCLUSIVIDAD,Mapuche,MUJER,MÚSICA,NIÑOS Y NIÑAS,Talleres,Teatro,TURISMO
ATTACH;FMTTYPE=image/jpeg:https://puyehuechile.cl/sitio/wp-content/uploads/2024/01/WhatsApp-Image-2024-01-17-at-09.35.59.jpeg
END:VEVENT
BEGIN:VEVENT
DTSTART;TZID=UTC:20240125T200000
DTEND;TZID=UTC:20240126T080000
DTSTAMP:20260420T133252
CREATED:20240117T133738Z
LAST-MODIFIED:20240117T140953Z
UID:4091-1706212800-1706256000@puyehuechile.cl
SUMMARY:DÍA #3 SEMANA ENTRELAGUINA
DESCRIPTION:En esta tercera noche de SEMANA ENTRELAGUINA 2024\, estaremos gozando de la música urbana con Forest y Dj Mc Visual. Además se realizará la competencia de Autos Locos y la Presentación de las candidatas a Reina. \nTE ESPERAMOS DESDE LAS 20:00 HRS EN EXPLANADA #YOSOYPUYEHUE #PUYEHUECHILE
URL:https://puyehuechile.cl/evento/dia-3-semana-entrelaguina/
LOCATION:Provincia de Osorno
CATEGORIES:ARTESANIA,CULTURA,Danza,DEPORTE,GASTRONOMIA,INCLUSIVIDAD,Mapuche,MUJER,MÚSICA,NIÑOS Y NIÑAS,Talleres,Teatro,TURISMO
ATTACH;FMTTYPE=image/jpeg:https://puyehuechile.cl/sitio/wp-content/uploads/2024/01/WhatsApp-Image-2024-01-17-at-09.35.58-1.jpeg
END:VEVENT
BEGIN:VEVENT
DTSTART;TZID=UTC:20240124T200000
DTEND;TZID=UTC:20240125T200000
DTSTAMP:20260420T133252
CREATED:20240117T132519Z
LAST-MODIFIED:20240117T142415Z
UID:4088-1706126400-1706212800@puyehuechile.cl
SUMMARY:DÍA #2 SEMANA ENTRELAGUINA
DESCRIPTION:Seguimos disfrutando de nuestra SEMANA ENTRELAGUINA 2024! Podremos disfrutar del folclor\, el Campeonato Nacional de Cueca\, grupos folclóricos locales y mucho más. \nTE ESPERAMOS DESDE LAS 20:00 HRS EN EXPLANADA \n#YOSOYPUYEHUE \n#PUYEHUECHILE
URL:https://puyehuechile.cl/evento/dia-2-semana-entrelaguina/
LOCATION:Explanada Entre Lagos\, Entre lagos\, Puyehue\, Chile
CATEGORIES:ARTESANIA,CULTURA,Danza,DEPORTE,GASTRONOMIA,INCLUSIVIDAD,Mapuche,MUJER,MÚSICA,NIÑOS Y NIÑAS,Talleres,Teatro,TURISMO
ATTACH;FMTTYPE=image/jpeg:https://puyehuechile.cl/sitio/wp-content/uploads/2024/01/WhatsApp-Image-2024-01-17-at-09.35.58.jpeg
END:VEVENT
BEGIN:VEVENT
DTSTART;TZID=UTC:20240123T200000
DTEND;TZID=UTC:20240124T200000
DTSTAMP:20260420T133252
CREATED:20240117T124255Z
LAST-MODIFIED:20240117T124255Z
UID:4085-1706040000-1706126400@puyehuechile.cl
SUMMARY:INICIO SEMANA ENTRELAGUINA
DESCRIPTION:Damos inicio a la semana mas importante del año\, la SEMANA ENTRELAGUINA 2024.\nTendremos OLIMPIADAS DEL ADULTO MAYOR\, DIA DE LA FAMILIA\, PRESENTACION DE LAS CANDIDATAS A REINAS\, SHOWS EN VIVO CON EL TRIBUTO A ANA GABRIEL Y EL SHOW FINAL CON EL TRIBUTO A LOS VIKING 5 \nTE ESPERAMOS DESDE LAS 20 HRS EN EXPLANADA \n#YOSOYPUYEHUE \n#PUYEHUECHILE \n 
URL:https://puyehuechile.cl/evento/inicio-semana-entrelaguina-2/
LOCATION:Explanada Entre Lagos\, Entre lagos\, Puyehue\, Chile
CATEGORIES:ARTESANIA,CULTURA,Danza,DEPORTE,GASTRONOMIA,INCLUSIVIDAD,MUJER,MÚSICA,NIÑOS Y NIÑAS,Talleres,Teatro,TURISMO
ATTACH;FMTTYPE=image/jpeg:https://puyehuechile.cl/sitio/wp-content/uploads/2024/01/WhatsApp-Image-2024-01-17-at-09.35.56.jpeg
END:VEVENT
BEGIN:VEVENT
DTSTART;VALUE=DATE:20240123
DTEND;VALUE=DATE:20240128
DTSTAMP:20260420T133252
CREATED:20240105T143239Z
LAST-MODIFIED:20240105T143239Z
UID:3806-1705968000-1706399999@puyehuechile.cl
SUMMARY:SEMANA ENTRELAGUINA\, COMUNA DE PUYEHUE 2024
DESCRIPTION:VEN A DISFRUTAR DE UNA SEMANA LLENA DE MÚSICA Y DIVERSIÓN EN LA «SEMANA ENTRELAGUINA COMUNA DE PUYEHUE 2024». \nTENDREMOS SELECCIONO DE REINAS EMBAJADORAS DE LA COMUNA DE PUYEHUE\, CARROS ALEGORICOS Y AUTOS LOCOS.. ADEMAS MÚSICOS LOCALES\, CAMPEONATO NACIONAL DEL FOLCLORE\, DÍA URBANO CON EL ARTISTA TOP EL FOREST\, UNO DE LOS MEJORES DJ DE CHILE MC VISUAL\, EL VIERNES CON EL DESTACADO GRUPO INTERNACIONAL SANTA FERIA Y CERRAREMOS EL SABADO 27 CON EL ARTISTA CON AMPLIA TRAYECTORIA AMÉRICO… TODOS POR PRIMERA VEZ EN PUYEHUE \nVISITA PUYEHUE. YO SOY TU DESTINO… YO SOY PUYEHUE \nNOS VEMOS DESDE EL 23 AL 27 DE ENERO DESDE LAS 19 HORAS\, EXPLANADA DE ENTRE LAGOS!!!!
URL:https://puyehuechile.cl/evento/semana-entrelaguina-comuna-de-puyehue-2024/
LOCATION:Explanada Entre Lagos\, Entre lagos\, Puyehue\, Chile
CATEGORIES:ARTESANIA,CULTURA,Danza,DEPORTE,GASTRONOMIA,INCLUSIVIDAD,Mapuche,MUJER,MÚSICA,NIÑOS Y NIÑAS,Talleres,Teatro,TURISMO
ATTACH;FMTTYPE=image/jpeg:https://puyehuechile.cl/sitio/wp-content/uploads/2024/01/WhatsApp-Image-2024-01-04-at-15.08.36.jpeg
END:VEVENT
BEGIN:VEVENT
DTSTART;TZID=UTC:20240119T110000
DTEND;TZID=UTC:20240119T200000
DTSTAMP:20260420T133252
CREATED:20240118T130241Z
LAST-MODIFIED:20240118T130241Z
UID:4102-1705662000-1705694400@puyehuechile.cl
SUMMARY:TALLER CARNAVALESCO EN PUYEHUE!
DESCRIPTION:Les invitamos a esta jornada de creatividad\, diversión y aprendizaje para niños y niñas mayores de 9 años! Se desarrollarán actividades carnavalescas como Taller de Malabarismo\, Creación de Marionetas y Taller de Batucada. Les esperamos en la Explanada de Entre Lagos a las 11:00 am. \n#tallerespuyehue #arteyculturapuyehue #puyehuecultura #culturapuyehue #veranopuyehue2024 #puyehuechile #municipalidadpuyehue #culturaregiondeloslagos #semanaentrelaguina #YoSoyPuyehue
URL:https://puyehuechile.cl/evento/taller-carnavalesco-en-puyehue/
LOCATION:Explanada Entre Lagos\, Entre lagos\, Puyehue\, Chile
CATEGORIES:ARTESANIA,CULTURA,Danza,DEPORTE,GASTRONOMIA,INCLUSIVIDAD,Mapuche,MUJER,MÚSICA,NIÑOS Y NIÑAS,Talleres,Teatro,TURISMO
ATTACH;FMTTYPE=image/jpeg:https://puyehuechile.cl/sitio/wp-content/uploads/2024/01/WhatsApp-Image-2024-01-17-at-18.02.49.jpeg
END:VEVENT
BEGIN:VEVENT
DTSTART;VALUE=DATE:20240113
DTEND;VALUE=DATE:20240129
DTSTAMP:20260420T133252
CREATED:20240108T143419Z
LAST-MODIFIED:20240108T151511Z
UID:4008-1705104000-1706486399@puyehuechile.cl
SUMMARY:RUTA DE LAS FIESTAS COSTRUMBRISTAS\, PUYEHUE 2024
DESCRIPTION:Puyehue se viste de verano para esperarte con sus actividades de verano. Y en todas las localidades tennemos FIESTAS COSTUMBRISTAS. \nVisita toda la comuna\, con su gastronomía\, música\, concursos y mas y conoce la idiosincrasia de Puyehue… \nVisitanos en cada una de nuestras fiestas y SIGUE LA RUTA DE LAS FIESTAS COSTUMBRISTAS. \n#Yosoytudestino \n#YOSOYPUYEHUE
URL:https://puyehuechile.cl/evento/ruta-de-las-fiestas-costrumbristas-puyehue-2024/
LOCATION:COMUNA DE PUYEHUE\, Chile
CATEGORIES:ARTESANIA,CULTURA,Danza,DEPORTE,GASTRONOMIA,INCLUSIVIDAD,Mapuche,MUJER,MÚSICA,NIÑOS Y NIÑAS,Talleres,Teatro,TURISMO
ATTACH;FMTTYPE=image/jpeg:https://puyehuechile.cl/sitio/wp-content/uploads/2024/01/WhatsApp-Image-2024-01-08-at-12.07.00.jpeg
END:VEVENT
BEGIN:VEVENT
DTSTART;TZID=UTC:20231125T180000
DTEND;TZID=UTC:20231125T210000
DTSTAMP:20260420T133252
CREATED:20231122T202236Z
LAST-MODIFIED:20231122T202236Z
UID:3065-1700935200-1700946000@puyehuechile.cl
SUMMARY:GALA CULTURAL PUYEHUE 2023
DESCRIPTION:🌷E⃨s⃨t⃨e⃨ s⃨á⃨b⃨a⃨d⃨o⃨ 2⃨5⃨ d⃨e⃨ n⃨o⃨v⃨i⃨e⃨m⃨b⃨r⃨e⃨ n⃨u⃨e⃨s⃨t⃨r⃨a⃨ O⃨f⃨i⃨c⃨i⃨n⃨a⃨ d⃨e⃨ C⃨u⃨l⃨t⃨u⃨r⃨a⃨ r⃨e⃨a⃨l⃨i⃨z⃨a⃨r⃨á⃨ l⃨a⃨ P⃨r⃨i⃨m⃨e⃨r⃨a⃨ G⃨a⃨l⃨a⃨ C⃨u⃨l⃨t⃨u⃨r⃨a⃨l⃨ e⃨n⃨ C⃨a⃨s⃨a⃨ d⃨e⃨ l⃨a⃨ C⃨u⃨l⃨t⃨u⃨r⃨a⃨ \n👉Se espera que más de 60 niños\, jóvenes y adultos participarán en la Primera Gala Cultural que se realizará este sábado en Casa de la Cultura\, a partir de las 18:00 horas. \n✅Se desarrollará una completa muestra con todos los talleres que se realizaron durante este año\, a través de la Oficina @puyehuecultura \n👉Se presentarán los talleres de tango\, circo\, danza\, teatro y pintura. \n✅Además tendremos la participación del taller de Folclor de adultos mayores. \n🌷Es por ello que se invita a toda la comunidad a participar de esta Gala y se parte del desarrollo cultural de nuestra comuna. \n#puyehuechile\n#cultura
URL:https://puyehuechile.cl/evento/gala-cultural-puyehue-2023/
LOCATION:CASA DE LA CULTURA DE ENTRE LAGOS\, Calle Bernardo O'higgins s/n\, Entre lagos\, Puyehue\, Chile
CATEGORIES:ARTESANIA,CULTURA,Danza,DEPORTE,INCLUSIVIDAD,Mapuche,MUJER,MÚSICA,NIÑOS Y NIÑAS,Talleres,Teatro,TURISMO
ATTACH;FMTTYPE=image/jpeg:https://puyehuechile.cl/sitio/wp-content/uploads/2023/11/gALA-cultura.jpg
END:VEVENT
BEGIN:VEVENT
DTSTART;TZID=UTC:20231107T120000
DTEND;TZID=UTC:20231107T130000
DTSTAMP:20260420T133252
CREATED:20231102T202759Z
LAST-MODIFIED:20231102T202759Z
UID:3040-1699358400-1699362000@puyehuechile.cl
SUMMARY:1° Encuentro de Lectura a Viva Voz
DESCRIPTION:1° Encuentro de Lectura a Viva Voz\, donde participan niños\, niñas y jóvenes de la comuna de Puyehue. \nActividad Organizada por la Oficina de Cultura\, la Biblioteca Municipal y DAEM de la comuna de Puyehue.
URL:https://puyehuechile.cl/evento/1-encuentro-de-lectura-a-viva-voz/
LOCATION:Biblioteca Municipal.\, Entre Lagos\, Chile
CATEGORIES:CULTURA,NIÑOS Y NIÑAS,Teatro
END:VEVENT
BEGIN:VEVENT
DTSTART;VALUE=DATE:20231102
DTEND;VALUE=DATE:20231201
DTSTAMP:20260420T133252
CREATED:20231102T193623Z
LAST-MODIFIED:20231102T194235Z
UID:3033-1698883200-1701388799@puyehuechile.cl
SUMMARY:52 años de la COMUNA DE PUYEHUE.
DESCRIPTION:MÚLTIPLES ACTIVIDADES PARA EL ANIVERSARIO DE LA COMUNA. VISITA EL CALENDARIO EN LA FOTO!!!!
URL:https://puyehuechile.cl/evento/52-anos-de-la-comuna-de-puyehue/
LOCATION:COMUNA DE PUYEHUE\, Chile
CATEGORIES:ARTESANIA,CULTURA,Danza,DEPORTE,GASTRONOMIA,Mapuche,MUJER,MÚSICA,NIÑOS Y NIÑAS,Talleres,Teatro,TURISMO
ATTACH;FMTTYPE=image/jpeg:https://puyehuechile.cl/sitio/wp-content/uploads/2023/11/WhatsApp-Image-2023-10-25-at-18.08.11.jpeg
END:VEVENT
BEGIN:VEVENT
DTSTART;TZID=UTC:20230929T140000
DTEND;TZID=UTC:20230929T190000
DTSTAMP:20260420T133252
CREATED:20230925T194252Z
LAST-MODIFIED:20230925T194254Z
UID:2987-1695996000-1696014000@puyehuechile.cl
SUMMARY:Celebracion día internacional del turismo
DESCRIPTION:¡¡Celebración Internacional del Turismo 2023!!✨\n🤩Este Viernes 29 de Septiembre se llevará a cabo la celebración del día internacional del turismo en Puyehue\, en donde están todos invitados!!\n👉Festividad realizada en la casa de la Cultura\, este Viernes desde las 14:00hrs hasta las 18:00hrs.\n🌎Podrás disfrutar de ferias con emprendedores con rica gastronomía local\, artesanías\, charlas\, música\, folclore y mucho más.\n🇦🇷Además\, están invitados a compartir con nosotros las unidades de turismo de Villa La Angostura y Bariloche\, Argentina. Esto con el fin de fortalecer alianzas y motivar el aprendizaje en conjunto.\n🍃Ven a compartir con nosotros de este bello encuentro ¡Vive el Turismo\, Vive Puyehue!
URL:https://puyehuechile.cl/evento/celebracion-dia-internacional-del-turismo/
LOCATION:Casa De La Cultura\, Bernardo O"Higgins SN\, Entre lagos\, Puyehue\, Chile
CATEGORIES:ARTESANIA,CULTURA,Danza,GASTRONOMIA,MUJER,MÚSICA,NIÑOS Y NIÑAS,Talleres,Teatro,TURISMO
ATTACH;FMTTYPE=image/jpeg:https://puyehuechile.cl/sitio/wp-content/uploads/2023/09/Celebracion-internacional-de-turismo-2023.jpeg
END:VEVENT
BEGIN:VEVENT
DTSTART;TZID=UTC:20230714T100000
DTEND;TZID=UTC:20230714T193000
DTSTAMP:20260420T133252
CREATED:20230628T184555Z
LAST-MODIFIED:20230628T184642Z
UID:2863-1689328800-1689363000@puyehuechile.cl
SUMMARY:8vo Día de la IX Versión de la Puihua Cultural de Puyehue "Encuentro Binancional Chile - Argentina"
DESCRIPTION:Un día completo de música y danza\, en donde se realizará un taller de danza folclórica\, la presentación de la Asamblea Musical de la U de Los Lagos\,  una bella muestra de danza Nacional realizada por agrupaciones locales y más tarde\, se presenta Lolquellén de Panguipulli\, y por último\, la muestra de danza argentina por el grupo Tolkeyén de Bariloche.\nTodos invitados a bailar y disfrutar de la danza y música chilena y argentina.
URL:https://puyehuechile.cl/evento/8vo-dia-de-la-ix-version-de-la-puihua-cultural-de-puyehue-encuentro-binancional-chile-argentina/
LOCATION:Casa De La Cultura\, Bernardo O"Higgins SN\, Entre lagos\, Puyehue\, Chile
CATEGORIES:CULTURA,Danza,MÚSICA,Teatro
ATTACH;FMTTYPE=image/jpeg:https://puyehuechile.cl/sitio/wp-content/uploads/2023/06/WhatsApp-Image-2023-06-28-at-10.14.53.jpeg
END:VEVENT
BEGIN:VEVENT
DTSTART;TZID=UTC:20230712T100000
DTEND;TZID=UTC:20230712T180000
DTSTAMP:20260420T133252
CREATED:20230628T173202Z
LAST-MODIFIED:20230628T173418Z
UID:2855-1689156000-1689184800@puyehuechile.cl
SUMMARY:6to Día de la IX Versión de la Puihua Cultural "La Puihua Recorre Puyehue"
DESCRIPTION:Este día la Puihua recorrerá la comuna llevando cultura\, arte y entretenimiento. Se realizará una Feria Artesanal con emprendimientos locales en la Casa de La Cultura\, se llevará el taller de Pintura al Oleo a Corral del Sur y Quema del Buey\, además se realizarán cuentacuentos en Santa Elvira y El Encanto. Culminando con una función de Teatro en la casa de la cultura\, presentando la obra «Julita». Será un día lleno de cultura y arte\, compartiendo con toda la comunidad de estos talleres y actividades. \n 
URL:https://puyehuechile.cl/evento/6to-dia-de-la-ix-version-de-la-puihua-cultural-la-puihua-recorre-puyehue/
LOCATION:Casa De La Cultura\, Bernardo O"Higgins SN\, Entre lagos\, Puyehue\, Chile
CATEGORIES:ARTESANIA,CULTURA,Talleres,Teatro
ATTACH;FMTTYPE=image/jpeg:https://puyehuechile.cl/sitio/wp-content/uploads/2023/06/WhatsApp-Image-2023-06-28-at-10.14.53.jpeg
END:VEVENT
BEGIN:VEVENT
DTSTART;TZID=UTC:20230711T100000
DTEND;TZID=UTC:20230711T160000
DTSTAMP:20260420T133252
CREATED:20230628T165202Z
LAST-MODIFIED:20230628T165202Z
UID:2851-1689069600-1689091200@puyehuechile.cl
SUMMARY:5to día de la IX Versión de la Puihua Cultural de Puyehue; "Mateada con Adultos Mayores"
DESCRIPTION:5ta Jornada de esta Puihua Cultural; feria\, mateada y teatro\, un día dedicado a nuestros adultos mayores. Partiendo el día con la Feria Mercadito y la Mateada con Adultos Mayores.  Por otro lado\, el Taller de Teatro de Puyehue realizará una función en la sede UCAM y más tarde se realizará otra función de teatro en Pichi Damas; «Teatro a la Puerta».
URL:https://puyehuechile.cl/evento/5to-dia-de-la-ix-version-de-la-puihua-cultural-de-puyehue-mateada-con-adultos-mayores/
LOCATION:sede UCAM\, Entre Lagos\, Comuna de Puyehue\, Chile
CATEGORIES:CULTURA,GASTRONOMIA,Talleres,Teatro
ATTACH;FMTTYPE=image/jpeg:https://puyehuechile.cl/sitio/wp-content/uploads/2023/06/WhatsApp-Image-2023-06-28-at-10.14.53.jpeg
END:VEVENT
BEGIN:VEVENT
DTSTART;TZID=UTC:20230710T110000
DTEND;TZID=UTC:20230710T180000
DTSTAMP:20260420T133252
CREATED:20230628T162637Z
LAST-MODIFIED:20230628T162637Z
UID:2849-1688986800-1689012000@puyehuechile.cl
SUMMARY:4to día de la IX de la Puihua Cultural de Puyehue "Fiesta Paraíso de Invierno"
DESCRIPTION:Porque el frío y el sol de invierno se hacen presentes ¡¡debemos disfrutarlos en familia!!\nEste lunes 10 de Julio  podremos disfrutar de la nieve en la Explanada de Entre Lagos\, compartiendo en juegos familiares de invierno y demás. Y al finalizar el día podremos reunirnos a ver la función del circo «Circoliflor» en la Casa de La Cultura. Todo un día dedicado a la familia y al invierno.
URL:https://puyehuechile.cl/evento/4to-dia-de-la-ix-de-la-puihua-cultural-de-puyehue-fiesta-paraiso-de-invierno/
LOCATION:Explanada Entre Lagos\, Entre lagos\, Puyehue\, Chile
CATEGORIES:CULTURA,GASTRONOMIA,NIÑOS Y NIÑAS,Teatro
ATTACH;FMTTYPE=image/jpeg:https://puyehuechile.cl/sitio/wp-content/uploads/2023/06/WhatsApp-Image-2023-06-28-at-10.14.53.jpeg
END:VEVENT
BEGIN:VEVENT
DTSTART;TZID=UTC:20230707T150000
DTEND;TZID=UTC:20230707T223000
DTSTAMP:20260420T133252
CREATED:20230628T144029Z
LAST-MODIFIED:20230628T144324Z
UID:2837-1688742000-1688769000@puyehuechile.cl
SUMMARY:Inicio de la IX Versión de la Puihua Cultural de Puyehue\, 1er día; "Presentación Bandas Emergentes"
DESCRIPTION:Para el primer día de este gran evento\, podremos recorrer la gran feria de Servicio Aventura\, el Gran Lanzamiento de la Carrera Monumento Cardenal Samoré y además se podrá disfrutar de la música y ritmo de artistas emergentes de la zona\, como lo son; la banda «Full Nation»\, «El Mundo de George» y la gran artista «Sidora»  quien es Puyehuina de nacimiento y ha estado haciendo carrera por México y otros lugares. Será una noche de mucha emoción. ¡¡Todos invitados!!
URL:https://puyehuechile.cl/evento/inicio-de-la-ix-version-de-la-puihua-cultural-de-puyehue-1er-dia-presentacion-bandas-emergentes/
LOCATION:Casa De La Cultura\, Bernardo O"Higgins SN\, Entre lagos\, Puyehue\, Chile
CATEGORIES:CULTURA,MÚSICA,Teatro
ATTACH;FMTTYPE=image/jpeg:https://puyehuechile.cl/sitio/wp-content/uploads/2023/06/WhatsApp-Image-2023-06-28-at-10.14.20.jpeg
END:VEVENT
BEGIN:VEVENT
DTSTART;VALUE=DATE:20230331
DTEND;VALUE=DATE:20231125
DTSTAMP:20260420T133252
CREATED:20230404T212039Z
LAST-MODIFIED:20231102T201812Z
UID:2758-1680220800-1700870399@puyehuechile.cl
SUMMARY:Talleres Artísticos 2023 PUYEHUE
DESCRIPTION:
URL:https://puyehuechile.cl/evento/inicio-de-talleres-artisticos-2023/
LOCATION:Entre Lagos
CATEGORIES:CULTURA,MUJER,NIÑOS Y NIÑAS,Talleres,Teatro
ATTACH;FMTTYPE=image/png:https://puyehuechile.cl/sitio/wp-content/uploads/2023/04/Afiche-Talleres-Culturales-2023.png
END:VEVENT
BEGIN:VEVENT
DTSTART;TZID=UTC:20230329T150000
DTEND;TZID=UTC:20230329T200000
DTSTAMP:20260420T133252
CREATED:20230329T180619Z
LAST-MODIFIED:20230329T180751Z
UID:2750-1680102000-1680120000@puyehuechile.cl
SUMMARY:Conversatorio temporada estival  y encuentro cultural
DESCRIPTION:Conversatorio del cierre de la temporada estival 2022-2023 en casa de la cultura\, este jueves 30 de marzo de 2023 desde las 15:00 horas. \nAdemas habra taller de danza\, musica clasica y Muestra de baile desde argentina.
URL:https://puyehuechile.cl/evento/conservatorio-temporada-estival-y-encuentro-cultural/
LOCATION:Casa De La Cultura\, Bernardo O"Higgins SN\, Entre lagos\, Puyehue\, Chile
CATEGORIES:ARTESANIA,CULTURA,DEPORTE,GASTRONOMIA,Mapuche,MUJER,MÚSICA,NIÑOS Y NIÑAS,Teatro,TURISMO
ATTACH;FMTTYPE=image/jpeg:https://puyehuechile.cl/sitio/wp-content/uploads/2023/03/WhatsApp-Image-2023-03-23-at-15.30.47.jpeg
END:VEVENT
BEGIN:VEVENT
DTSTART;TZID=UTC:20230304T170000
DTEND;TZID=UTC:20230304T210000
DTSTAMP:20260420T133252
CREATED:20230223T143337Z
LAST-MODIFIED:20230223T143337Z
UID:2714-1677949200-1677963600@puyehuechile.cl
SUMMARY:FIESTA CULTURAL El VUELO DE LA LOICA
DESCRIPTION:Fiesta Cultural Circo y Música donde estará Carpa la Loica\, Circo Lluvia\, Circoliflor\, No somos de Azúcar\, Ikalka Julema y Más. La Barcaza se tomará en Puerto El Buey a las 16:00 hrs. y el regreso a las 21:00 hrs.
URL:https://puyehuechile.cl/evento/fiesta-cultural-el-vuelo-de-la-loica/
LOCATION:Playa La Sirena\, Las Vegas\, Rupanco\, Puyehue\, Chile
CATEGORIES:CULTURA,MÚSICA,Teatro,TURISMO
ATTACH;FMTTYPE=image/png:https://puyehuechile.cl/sitio/wp-content/uploads/2023/02/El-Vuelo-de-la-Loica.png
END:VEVENT
BEGIN:VEVENT
DTSTART;TZID=UTC:20230124T080000
DTEND;TZID=UTC:20230128T170000
DTSTAMP:20260420T133252
CREATED:20221122T144047Z
LAST-MODIFIED:20230124T185033Z
UID:2171-1674547200-1674925200@puyehuechile.cl
SUMMARY:SEMANA ENTRELAGUINA 2023
DESCRIPTION:Semana de actividades donde se celebra la semana aniversario de la comuna de Puyehue
URL:https://puyehuechile.cl/evento/semana-entrelaguina-2023/
LOCATION:Entre Lagos
CATEGORIES:ARTESANIA,CULTURA,GASTRONOMIA,Mapuche,MUJER,NIÑOS Y NIÑAS,Teatro,TURISMO
ATTACH;FMTTYPE=image/jpeg:https://puyehuechile.cl/sitio/wp-content/uploads/2022/11/SEMANA-ENTRELAGUINA-NUEVO.jpeg
END:VEVENT
BEGIN:VEVENT
DTSTART;TZID=UTC:20230123T200000
DTEND;TZID=UTC:20230128T220000
DTSTAMP:20260420T133252
CREATED:20230112T231504Z
LAST-MODIFIED:20230112T231728Z
UID:2331-1674504000-1674943200@puyehuechile.cl
SUMMARY:CONCURSO DE CARROS ALEGORICOS
DESCRIPTION:Se invita a Participar del Tradicional Concurso de «Carros Alegóricos» Semana Entrelaguina\, con premios a los primeros 5 lugares. Puedes retirar las bases en Oficina de Seguridad y Oportunidades o descargarlas desde la página web www.municipalidaddepuyehue.cl
URL:https://puyehuechile.cl/evento/concurso-de-carros-alegoricos/
LOCATION:Explanada Entre Lagos\, Entre lagos\, Puyehue\, Chile
CATEGORIES:CULTURA,MUJER,NIÑOS Y NIÑAS,Teatro,TURISMO
ATTACH;FMTTYPE=image/png:https://puyehuechile.cl/sitio/wp-content/uploads/2023/01/concurso-carros-alegoricos.png
END:VEVENT
BEGIN:VEVENT
DTSTART;TZID=UTC:20230121T200000
DTEND;TZID=UTC:20230121T220000
DTSTAMP:20260420T133252
CREATED:20230117T195423Z
LAST-MODIFIED:20230120T160423Z
UID:2347-1674331200-1674338400@puyehuechile.cl
SUMMARY:CUENTA CUENTO FAMILIAR
DESCRIPTION:
URL:https://puyehuechile.cl/evento/cuenta-cuento-familiar/
LOCATION:Explanada Entre Lagos\, Entre lagos\, Puyehue\, Chile
CATEGORIES:CULTURA,NIÑOS Y NIÑAS,Teatro,TURISMO
ATTACH;FMTTYPE=image/jpeg:https://puyehuechile.cl/sitio/wp-content/uploads/2023/01/WhatsApp-Image-2023-01-19-at-16.31.27.jpeg
END:VEVENT
BEGIN:VEVENT
DTSTART;TZID=UTC:20221125T200000
DTEND;TZID=UTC:20221125T220000
DTSTAMP:20260420T133252
CREATED:20221121T181350Z
LAST-MODIFIED:20221124T130940Z
UID:2157-1669406400-1669413600@puyehuechile.cl
SUMMARY:Obra de Teatro "Nohelia De Los Cantares"
DESCRIPTION:
URL:https://puyehuechile.cl/evento/obra-de-teatro-nohelia-de-los-cantares/
LOCATION:Casa De La Cultura\, Bernardo O"Higgins SN\, Entre lagos\, Puyehue\, Chile
CATEGORIES:CULTURA,MUJER,Teatro,TURISMO
ATTACH;FMTTYPE=image/jpeg:https://puyehuechile.cl/sitio/wp-content/uploads/2022/11/IMG-20221118-WA0057.jpg
END:VEVENT
END:VCALENDAR