BEGIN:VCALENDAR
VERSION:2.0
PRODID:-//Turismo Puyehue - ECPv6.8.1//NONSGML v1.0//EN
CALSCALE:GREGORIAN
METHOD:PUBLISH
X-ORIGINAL-URL:https://puyehuechile.cl
X-WR-CALDESC:Eventos para Turismo Puyehue
REFRESH-INTERVAL;VALUE=DURATION:PT1H
X-Robots-Tag:noindex
X-PUBLISHED-TTL:PT1H
BEGIN:VTIMEZONE
TZID:UTC
BEGIN:STANDARD
TZOFFSETFROM:+0000
TZOFFSETTO:+0000
TZNAME:UTC
DTSTART:20250101T000000
END:STANDARD
END:VTIMEZONE
BEGIN:VEVENT
DTSTART;TZID=UTC:20250703T180000
DTEND;TZID=UTC:20250703T210000
DTSTAMP:20260422T152717
CREATED:20250609T210041Z
LAST-MODIFIED:20250609T210041Z
UID:5083-1751565600-1751576400@puyehuechile.cl
SUMMARY:TEATRO EN LA PUIHUA\, FUNCION "ESPIRITU DEL CONDOR"
DESCRIPTION:EL TEATRO LLEGA EN INVIERNO CON LA FUNCION ESPIRITU DEL CONDOR DE LA COMPAÑIA DE TEATRO «LA VACA LOCA. \nDESDE LAS 18:00 HRS EN CASA DE LA CULÑTURA.. ENTRADA LIBERADA PARA TODA LA FAMILIA \nTE ESPERAMOS \n\nRecordemos que es una actividad abierta a la comunidad.\n\n\n¡Tu también puedes ser parte de el evento de #invierno más importante del Sur de Chile!\n\n\n#yosoypuihua #yosoypuyehue #yosoyinvierno
URL:https://puyehuechile.cl/evento/teatro-en-la-puihua-funcion-espiritu-del-condor/
LOCATION:CASA DE LA CULTURA DE ENTRE LAGOS\, Calle Bernardo O'higgins s/n\, Entre lagos\, Puyehue\, Chile
CATEGORIES:ARTESANIA,Cine,CULTURA,Danza,ENTRETENCIÓN,FAMILIA,FOMENTO,Fotografía,INCLUSIVIDAD,Mapuche,MEDIOAMBIENTE,MUJER,MÚSICA,NIÑOS Y NIÑAS,Teatro,TURISMO
ATTACH;FMTTYPE=image/jpeg:https://puyehuechile.cl/sitio/wp-content/uploads/2025/06/WhatsApp-Image-2025-06-09-at-12.57.43.jpeg
END:VEVENT
END:VCALENDAR