BEGIN:VCALENDAR
VERSION:2.0
PRODID:-//Turismo Puyehue - ECPv6.8.1//NONSGML v1.0//EN
CALSCALE:GREGORIAN
METHOD:PUBLISH
X-ORIGINAL-URL:https://puyehuechile.cl
X-WR-CALDESC:Eventos para Turismo Puyehue
REFRESH-INTERVAL;VALUE=DURATION:PT1H
X-Robots-Tag:noindex
X-PUBLISHED-TTL:PT1H
BEGIN:VTIMEZONE
TZID:UTC
BEGIN:STANDARD
TZOFFSETFROM:+0000
TZOFFSETTO:+0000
TZNAME:UTC
DTSTART:20230101T000000
END:STANDARD
END:VTIMEZONE
BEGIN:VEVENT
DTSTART;VALUE=DATE:20230331
DTEND;VALUE=DATE:20231125
DTSTAMP:20260424T191517
CREATED:20230404T212039Z
LAST-MODIFIED:20231102T201812Z
UID:2758-1680220800-1700870399@puyehuechile.cl
SUMMARY:Talleres Artísticos 2023 PUYEHUE
DESCRIPTION:
URL:https://puyehuechile.cl/evento/inicio-de-talleres-artisticos-2023/
LOCATION:Entre Lagos
CATEGORIES:CULTURA,MUJER,NIÑOS Y NIÑAS,Talleres,Teatro
ATTACH;FMTTYPE=image/png:https://puyehuechile.cl/sitio/wp-content/uploads/2023/04/Afiche-Talleres-Culturales-2023.png
END:VEVENT
BEGIN:VEVENT
DTSTART;TZID=UTC:20230707T150000
DTEND;TZID=UTC:20230707T223000
DTSTAMP:20260424T191517
CREATED:20230628T144029Z
LAST-MODIFIED:20230628T144324Z
UID:2837-1688742000-1688769000@puyehuechile.cl
SUMMARY:Inicio de la IX Versión de la Puihua Cultural de Puyehue\, 1er día; "Presentación Bandas Emergentes"
DESCRIPTION:Para el primer día de este gran evento\, podremos recorrer la gran feria de Servicio Aventura\, el Gran Lanzamiento de la Carrera Monumento Cardenal Samoré y además se podrá disfrutar de la música y ritmo de artistas emergentes de la zona\, como lo son; la banda «Full Nation»\, «El Mundo de George» y la gran artista «Sidora»  quien es Puyehuina de nacimiento y ha estado haciendo carrera por México y otros lugares. Será una noche de mucha emoción. ¡¡Todos invitados!!
URL:https://puyehuechile.cl/evento/inicio-de-la-ix-version-de-la-puihua-cultural-de-puyehue-1er-dia-presentacion-bandas-emergentes/
LOCATION:Casa De La Cultura\, Bernardo O"Higgins SN\, Entre lagos\, Puyehue\, Chile
CATEGORIES:CULTURA,MÚSICA,Teatro
ATTACH;FMTTYPE=image/jpeg:https://puyehuechile.cl/sitio/wp-content/uploads/2023/06/WhatsApp-Image-2023-06-28-at-10.14.20.jpeg
END:VEVENT
BEGIN:VEVENT
DTSTART;TZID=UTC:20230710T110000
DTEND;TZID=UTC:20230710T180000
DTSTAMP:20260424T191517
CREATED:20230628T162637Z
LAST-MODIFIED:20230628T162637Z
UID:2849-1688986800-1689012000@puyehuechile.cl
SUMMARY:4to día de la IX de la Puihua Cultural de Puyehue "Fiesta Paraíso de Invierno"
DESCRIPTION:Porque el frío y el sol de invierno se hacen presentes ¡¡debemos disfrutarlos en familia!!\nEste lunes 10 de Julio  podremos disfrutar de la nieve en la Explanada de Entre Lagos\, compartiendo en juegos familiares de invierno y demás. Y al finalizar el día podremos reunirnos a ver la función del circo «Circoliflor» en la Casa de La Cultura. Todo un día dedicado a la familia y al invierno.
URL:https://puyehuechile.cl/evento/4to-dia-de-la-ix-de-la-puihua-cultural-de-puyehue-fiesta-paraiso-de-invierno/
LOCATION:Explanada Entre Lagos\, Entre lagos\, Puyehue\, Chile
CATEGORIES:CULTURA,GASTRONOMIA,NIÑOS Y NIÑAS,Teatro
ATTACH;FMTTYPE=image/jpeg:https://puyehuechile.cl/sitio/wp-content/uploads/2023/06/WhatsApp-Image-2023-06-28-at-10.14.53.jpeg
END:VEVENT
BEGIN:VEVENT
DTSTART;TZID=UTC:20230711T100000
DTEND;TZID=UTC:20230711T160000
DTSTAMP:20260424T191517
CREATED:20230628T165202Z
LAST-MODIFIED:20230628T165202Z
UID:2851-1689069600-1689091200@puyehuechile.cl
SUMMARY:5to día de la IX Versión de la Puihua Cultural de Puyehue; "Mateada con Adultos Mayores"
DESCRIPTION:5ta Jornada de esta Puihua Cultural; feria\, mateada y teatro\, un día dedicado a nuestros adultos mayores. Partiendo el día con la Feria Mercadito y la Mateada con Adultos Mayores.  Por otro lado\, el Taller de Teatro de Puyehue realizará una función en la sede UCAM y más tarde se realizará otra función de teatro en Pichi Damas; «Teatro a la Puerta».
URL:https://puyehuechile.cl/evento/5to-dia-de-la-ix-version-de-la-puihua-cultural-de-puyehue-mateada-con-adultos-mayores/
LOCATION:sede UCAM\, Entre Lagos\, Comuna de Puyehue\, Chile
CATEGORIES:CULTURA,GASTRONOMIA,Talleres,Teatro
ATTACH;FMTTYPE=image/jpeg:https://puyehuechile.cl/sitio/wp-content/uploads/2023/06/WhatsApp-Image-2023-06-28-at-10.14.53.jpeg
END:VEVENT
BEGIN:VEVENT
DTSTART;TZID=UTC:20230712T100000
DTEND;TZID=UTC:20230712T180000
DTSTAMP:20260424T191517
CREATED:20230628T173202Z
LAST-MODIFIED:20230628T173418Z
UID:2855-1689156000-1689184800@puyehuechile.cl
SUMMARY:6to Día de la IX Versión de la Puihua Cultural "La Puihua Recorre Puyehue"
DESCRIPTION:Este día la Puihua recorrerá la comuna llevando cultura\, arte y entretenimiento. Se realizará una Feria Artesanal con emprendimientos locales en la Casa de La Cultura\, se llevará el taller de Pintura al Oleo a Corral del Sur y Quema del Buey\, además se realizarán cuentacuentos en Santa Elvira y El Encanto. Culminando con una función de Teatro en la casa de la cultura\, presentando la obra «Julita». Será un día lleno de cultura y arte\, compartiendo con toda la comunidad de estos talleres y actividades. \n 
URL:https://puyehuechile.cl/evento/6to-dia-de-la-ix-version-de-la-puihua-cultural-la-puihua-recorre-puyehue/
LOCATION:Casa De La Cultura\, Bernardo O"Higgins SN\, Entre lagos\, Puyehue\, Chile
CATEGORIES:ARTESANIA,CULTURA,Talleres,Teatro
ATTACH;FMTTYPE=image/jpeg:https://puyehuechile.cl/sitio/wp-content/uploads/2023/06/WhatsApp-Image-2023-06-28-at-10.14.53.jpeg
END:VEVENT
BEGIN:VEVENT
DTSTART;TZID=UTC:20230714T100000
DTEND;TZID=UTC:20230714T193000
DTSTAMP:20260424T191517
CREATED:20230628T184555Z
LAST-MODIFIED:20230628T184642Z
UID:2863-1689328800-1689363000@puyehuechile.cl
SUMMARY:8vo Día de la IX Versión de la Puihua Cultural de Puyehue "Encuentro Binancional Chile - Argentina"
DESCRIPTION:Un día completo de música y danza\, en donde se realizará un taller de danza folclórica\, la presentación de la Asamblea Musical de la U de Los Lagos\,  una bella muestra de danza Nacional realizada por agrupaciones locales y más tarde\, se presenta Lolquellén de Panguipulli\, y por último\, la muestra de danza argentina por el grupo Tolkeyén de Bariloche.\nTodos invitados a bailar y disfrutar de la danza y música chilena y argentina.
URL:https://puyehuechile.cl/evento/8vo-dia-de-la-ix-version-de-la-puihua-cultural-de-puyehue-encuentro-binancional-chile-argentina/
LOCATION:Casa De La Cultura\, Bernardo O"Higgins SN\, Entre lagos\, Puyehue\, Chile
CATEGORIES:CULTURA,Danza,MÚSICA,Teatro
ATTACH;FMTTYPE=image/jpeg:https://puyehuechile.cl/sitio/wp-content/uploads/2023/06/WhatsApp-Image-2023-06-28-at-10.14.53.jpeg
END:VEVENT
END:VCALENDAR