BEGIN:VCALENDAR
VERSION:2.0
PRODID:-//Turismo Puyehue - ECPv6.8.1//NONSGML v1.0//EN
CALSCALE:GREGORIAN
METHOD:PUBLISH
X-WR-CALNAME:Turismo Puyehue
X-ORIGINAL-URL:https://puyehuechile.cl
X-WR-CALDESC:Eventos para Turismo Puyehue
REFRESH-INTERVAL;VALUE=DURATION:PT1H
X-Robots-Tag:noindex
X-PUBLISHED-TTL:PT1H
BEGIN:VTIMEZONE
TZID:UTC
BEGIN:STANDARD
TZOFFSETFROM:+0000
TZOFFSETTO:+0000
TZNAME:UTC
DTSTART:20230101T000000
END:STANDARD
END:VTIMEZONE
BEGIN:VEVENT
DTSTART;VALUE=DATE:20230331
DTEND;VALUE=DATE:20231125
DTSTAMP:20260420T021504
CREATED:20230404T212039Z
LAST-MODIFIED:20231102T201812Z
UID:2758-1680220800-1700870399@puyehuechile.cl
SUMMARY:Talleres Artísticos 2023 PUYEHUE
DESCRIPTION:
URL:https://puyehuechile.cl/evento/inicio-de-talleres-artisticos-2023/
LOCATION:Entre Lagos
CATEGORIES:CULTURA,MUJER,NIÑOS Y NIÑAS,Talleres,Teatro
ATTACH;FMTTYPE=image/png:https://puyehuechile.cl/sitio/wp-content/uploads/2023/04/Afiche-Talleres-Culturales-2023.png
END:VEVENT
BEGIN:VEVENT
DTSTART;TZID=UTC:20230908T100000
DTEND;TZID=UTC:20230908T170000
DTSTAMP:20260420T021504
CREATED:20230831T134054Z
LAST-MODIFIED:20230831T134054Z
UID:2923-1694167200-1694192400@puyehuechile.cl
SUMMARY:FERIA EMPRENDIMIENTOS PROGRAMA MUJERES JEFAS DE HOGAR
DESCRIPTION:
URL:https://puyehuechile.cl/evento/feria-emprendimientos-programa-mujeres-jefas-de-hogar/
LOCATION:Puyehue
CATEGORIES:ARTESANIA,MUJER,Talleres
ATTACH;FMTTYPE=image/jpeg:https://puyehuechile.cl/sitio/wp-content/uploads/2023/08/WhatsApp-Image-2023-08-30-at-18.19.17.jpeg
END:VEVENT
BEGIN:VEVENT
DTSTART;TZID=UTC:20230929T140000
DTEND;TZID=UTC:20230929T190000
DTSTAMP:20260420T021504
CREATED:20230925T194252Z
LAST-MODIFIED:20230925T194254Z
UID:2987-1695996000-1696014000@puyehuechile.cl
SUMMARY:Celebracion día internacional del turismo
DESCRIPTION:¡¡Celebración Internacional del Turismo 2023!!✨\n🤩Este Viernes 29 de Septiembre se llevará a cabo la celebración del día internacional del turismo en Puyehue\, en donde están todos invitados!!\n👉Festividad realizada en la casa de la Cultura\, este Viernes desde las 14:00hrs hasta las 18:00hrs.\n🌎Podrás disfrutar de ferias con emprendedores con rica gastronomía local\, artesanías\, charlas\, música\, folclore y mucho más.\n🇦🇷Además\, están invitados a compartir con nosotros las unidades de turismo de Villa La Angostura y Bariloche\, Argentina. Esto con el fin de fortalecer alianzas y motivar el aprendizaje en conjunto.\n🍃Ven a compartir con nosotros de este bello encuentro ¡Vive el Turismo\, Vive Puyehue!
URL:https://puyehuechile.cl/evento/celebracion-dia-internacional-del-turismo/
LOCATION:Casa De La Cultura\, Bernardo O"Higgins SN\, Entre lagos\, Puyehue\, Chile
CATEGORIES:ARTESANIA,CULTURA,Danza,GASTRONOMIA,MUJER,MÚSICA,NIÑOS Y NIÑAS,Talleres,Teatro,TURISMO
ATTACH;FMTTYPE=image/jpeg:https://puyehuechile.cl/sitio/wp-content/uploads/2023/09/Celebracion-internacional-de-turismo-2023.jpeg
END:VEVENT
END:VCALENDAR