BEGIN:VCALENDAR
VERSION:2.0
PRODID:-//Turismo Puyehue - ECPv6.8.1//NONSGML v1.0//EN
CALSCALE:GREGORIAN
METHOD:PUBLISH
X-WR-CALNAME:Turismo Puyehue
X-ORIGINAL-URL:https://puyehuechile.cl
X-WR-CALDESC:Eventos para Turismo Puyehue
REFRESH-INTERVAL;VALUE=DURATION:PT1H
X-Robots-Tag:noindex
X-PUBLISHED-TTL:PT1H
BEGIN:VTIMEZONE
TZID:UTC
BEGIN:STANDARD
TZOFFSETFROM:+0000
TZOFFSETTO:+0000
TZNAME:UTC
DTSTART:20240101T000000
END:STANDARD
END:VTIMEZONE
BEGIN:VEVENT
DTSTART;TZID=UTC:20240316T160000
DTEND;TZID=UTC:20240316T193000
DTSTAMP:20260422T153151
CREATED:20240313T125005Z
LAST-MODIFIED:20240313T125005Z
UID:4221-1710604800-1710617400@puyehuechile.cl
SUMMARY:PLAZA CINE EN PUYEHUE
DESCRIPTION:BANCO ESTADO invita a toda la familia a una tarde de CINE FAMILIAR. En esta oportunidad tendremos varias sorpresas donde ademas podremos ver laS peliculas HISTORIA DE UN OSO y NAHUEL Y EL LIBRO MAGICO \nTODO ESTO ACOMPAÑADO DE UNA FERIA DE EMPRENDEDORES…….En casa de la cultura de Puyehue a partir de las 16 hrs \nVEN CON TU FAMILIA… TE ESPERAMOS!!!! \n  \n 
URL:https://puyehuechile.cl/evento/plaza-cine-en-puyehue/
LOCATION:CASA DE LA CULTURA DE ENTRE LAGOS\, Calle Bernardo O'higgins s/n\, Entre lagos\, Puyehue\, Chile
CATEGORIES:ARTESANIA,CULTURA,GASTRONOMIA,INCLUSIVIDAD,MUJER,MÚSICA,NIÑOS Y NIÑAS,SUSTENTABILIDAD,TURISMO
ATTACH;FMTTYPE=image/jpeg:https://puyehuechile.cl/sitio/wp-content/uploads/2024/03/WhatsApp-Image-2024-03-13-at-9.41.30-AM.jpeg
END:VEVENT
END:VCALENDAR