BEGIN:VCALENDAR
VERSION:2.0
PRODID:-//Turismo Puyehue - ECPv6.8.1//NONSGML v1.0//EN
CALSCALE:GREGORIAN
METHOD:PUBLISH
X-ORIGINAL-URL:https://puyehuechile.cl
X-WR-CALDESC:Eventos para Turismo Puyehue
REFRESH-INTERVAL;VALUE=DURATION:PT1H
X-Robots-Tag:noindex
X-PUBLISHED-TTL:PT1H
BEGIN:VTIMEZONE
TZID:UTC
BEGIN:STANDARD
TZOFFSETFROM:+0000
TZOFFSETTO:+0000
TZNAME:UTC
DTSTART:20250101T000000
END:STANDARD
END:VTIMEZONE
BEGIN:VEVENT
DTSTART;TZID=UTC:20250222T080000
DTEND;TZID=UTC:20250223T170000
DTSTAMP:20260421T022403
CREATED:20250219T193152Z
LAST-MODIFIED:20250220T152200Z
UID:4952-1740211200-1740330000@puyehuechile.cl
SUMMARY:PRIMERA FIESTA COSTUMBRISTA SUSTENTABLE
DESCRIPTION:Te invitamos a disfrutar de juegos populares\, asados de cordero\, comidas típicas\, grupos folclóricos y artistas invitados.
URL:https://puyehuechile.cl/evento/primera-fiesta-costumbrista-sustentable/
LOCATION:Ñady Pichidamas\, Entre Lagos\, Puyehue\, 5360000\, Chile
CATEGORIES:ENTRETENCIÓN,FAMILIA,Folclor,GASTRONOMIA,MÚSICA
ATTACH;FMTTYPE=image/jpeg:https://puyehuechile.cl/sitio/wp-content/uploads/2025/02/IMG_4017.jpg
END:VEVENT
END:VCALENDAR