BEGIN:VCALENDAR
VERSION:2.0
PRODID:-//Turismo Puyehue - ECPv6.8.1//NONSGML v1.0//EN
CALSCALE:GREGORIAN
METHOD:PUBLISH
X-WR-CALNAME:Turismo Puyehue
X-ORIGINAL-URL:https://puyehuechile.cl
X-WR-CALDESC:Eventos para Turismo Puyehue
REFRESH-INTERVAL;VALUE=DURATION:PT1H
X-Robots-Tag:noindex
X-PUBLISHED-TTL:PT1H
BEGIN:VTIMEZONE
TZID:UTC
BEGIN:STANDARD
TZOFFSETFROM:+0000
TZOFFSETTO:+0000
TZNAME:UTC
DTSTART:20230101T000000
END:STANDARD
END:VTIMEZONE
BEGIN:VEVENT
DTSTART;TZID=UTC:20230304T100000
DTEND;TZID=UTC:20230304T233000
DTSTAMP:20260423T052117
CREATED:20230221T151059Z
LAST-MODIFIED:20230223T151437Z
UID:2704-1677924000-1677972600@puyehuechile.cl
SUMMARY:FIESTA LA CORRALINA día 1
DESCRIPTION:Fiesta de Costumbre y Tradiciones Campesinas\, donde encontrarás Grupos Musicales\, Comida Típica\, Juegos Populares\, Carreras a  La Chilena\, Juegos Infantiles y Productores Locales. Además Show Artístico con los grupos «Los Super Alegres de Galvarino» «Los Prisioneros de la Cumbia» y «Los Rancheros de Plata»
URL:https://puyehuechile.cl/evento/fiesta-la-corralina/
LOCATION:Ruta U 455\, Km 6 Recinto Marcia Borquez\, Corral del Sur\, Puyehue\, Chile
CATEGORIES:ARTESANIA,CULTURA,GASTRONOMIA,MÚSICA,TURISMO
ATTACH;FMTTYPE=image/png:https://puyehuechile.cl/sitio/wp-content/uploads/2023/02/La-Corralina.png
END:VEVENT
END:VCALENDAR