BEGIN:VCALENDAR
VERSION:2.0
PRODID:-//Turismo Puyehue - ECPv6.8.1//NONSGML v1.0//EN
CALSCALE:GREGORIAN
METHOD:PUBLISH
X-ORIGINAL-URL:https://puyehuechile.cl
X-WR-CALDESC:Eventos para Turismo Puyehue
REFRESH-INTERVAL;VALUE=DURATION:PT1H
X-Robots-Tag:noindex
X-PUBLISHED-TTL:PT1H
BEGIN:VTIMEZONE
TZID:UTC
BEGIN:STANDARD
TZOFFSETFROM:+0000
TZOFFSETTO:+0000
TZNAME:UTC
DTSTART:20250101T000000
END:STANDARD
END:VTIMEZONE
BEGIN:VEVENT
DTSTART;VALUE=DATE:20250131
DTEND;VALUE=DATE:20250203
DTSTAMP:20260421T004102
CREATED:20250129T122850Z
LAST-MODIFIED:20250129T124053Z
UID:4865-1738281600-1738540799@puyehuechile.cl
SUMMARY:MUESTRA DE ARTE CAMPESINO
DESCRIPTION:Te invitamos a participar de la XIII versión de la «FERIA DEL CORDERO PUYEHUE 2025”. \nLos días 31 de Enero\, 01 y 02 de Febrero 2025 en recinto Ruta Interlagos a un costado del agua potable\, Puyehue.\nHabrá grandes artistas\, folclore\, gastronomía\, artesanía y imperdibles asados de corderos\, además de un campeonato de rayuela. \n¡No te pierdas esta imperdible actividad\, ven y disfruta en familia!
URL:https://puyehuechile.cl/evento/muestra-de-arte-campesino/
LOCATION:RUTA INTERLAGOS\, A UN COSTADO DE AGUA POTABLE\, Chile
CATEGORIES:ARTESANIA,CULTURA,Danza,DEPORTE,ENTRETENCIÓN,FAMILIA,Folclor,FOMENTO,GASTRONOMIA,INCLUSIVIDAD,Mapuche,MEDIOAMBIENTE,MUJER,MUSEO,MÚSICA,NIÑOS Y NIÑAS,SUSTENTABILIDAD,TURISMO
ATTACH;FMTTYPE=image/jpeg:https://puyehuechile.cl/sitio/wp-content/uploads/2025/01/WhatsApp-Image-2025-01-28-at-15.06.57.jpeg
END:VEVENT
BEGIN:VEVENT
DTSTART;VALUE=DATE:20250208
DTEND;VALUE=DATE:20250209
DTSTAMP:20260421T004102
CREATED:20250204T200327Z
LAST-MODIFIED:20250204T200327Z
UID:4928-1738972800-1739059199@puyehuechile.cl
SUMMARY:EXPO VIVE TU VERANO CON AMOR
DESCRIPTION:#Puyehue  La agrupación Emprendedoras de Puyehue te invita a participar de un fin de semana lleno de diversión para toda la familia.\n\n\n\nEl dia sábado 8 de febrero ven a disfrutar de una entretenida clase de salsa a las 18:30 hrs y a continuación el show en vivo de Yordy el Cubano a las 19:30 hrs.\n\n\n\nEl dia domingo 9 de febrero tenemos un espectacular Show infantil con Mickey y Minnie a las 16:00 hrs. finalizando con una sesión baile entretenido a las 18:30 hrs.\n\n\n\nVen a la Explanada Costanera a compartir un fin de semana lleno de alegría y diversión junto a la “Agrupación Emprendedoras de Puyehue”\n\n\nTe esperamos.\n\n\nEXPO VIVE TU VERANO CON AMOR
URL:https://puyehuechile.cl/evento/expo-vive-tu-verano-con-amor/
LOCATION:EXPLANADA DE ENTRE LAGOS\, Costanera de Puyehue\, Entre lagos\, Puyehue\, Chile
CATEGORIES:ARTESANIA,CULTURA,Danza,ENTRETENCIÓN,FAMILIA,FOMENTO,Fotografía,GASTRONOMIA,INCLUSIVIDAD,MEDIOAMBIENTE,MUJER,MÚSICA,NIÑOS Y NIÑAS,TURISMO
ATTACH;FMTTYPE=image/jpeg:https://puyehuechile.cl/sitio/wp-content/uploads/2025/02/474857967_1049986377173868_1986658538849519558_n.jpg
END:VEVENT
BEGIN:VEVENT
DTSTART;VALUE=DATE:20250208
DTEND;VALUE=DATE:20250210
DTSTAMP:20260421T004102
CREATED:20250206T190126Z
LAST-MODIFIED:20250206T190126Z
UID:4942-1738972800-1739145599@puyehuechile.cl
SUMMARY:2da MUESTRA CULTURAL INDIGENA HUENCHULLANCA - CUI CUI
DESCRIPTION:#Puyehue Celebremos juntos Este sábado 8 y domingo 9 de febrero\, te esperamos en la “2° Muestra Cultural Indígena Huenchullanca Cui Cui»\, un evento de tradición\, música en vivo y cultura. Desde las 12:00 horas\, en el cruce de la Ruta 215 con Puerto Chalupa\, disfruta de presentaciones artísticas con la animación de Javier Santana.¡No te lo pierdas!
URL:https://puyehuechile.cl/evento/2da-muestra-cultural-indigena-huenchullanca-cui-cui/
LOCATION:Ruta Internacional 215 Cruce Puerto Chalupa\, Ruta Internacional 215 Cruce Puerto Chalupa\, Puyehue\, Región de Los Lagos\, 5360000\, Chile
CATEGORIES:ARTESANIA,CULTURA,Danza,ENTRETENCIÓN,FAMILIA,Folclor,FOMENTO,GASTRONOMIA,Mapuche,MÚSICA,TURISMO
ATTACH;FMTTYPE=image/jpeg:https://puyehuechile.cl/sitio/wp-content/uploads/2025/02/476091339_1051398920365947_8808077726158007563_n.jpg
END:VEVENT
BEGIN:VEVENT
DTSTART;VALUE=DATE:20250213
DTEND;VALUE=DATE:20250216
DTSTAMP:20260421T004102
CREATED:20250206T183021Z
LAST-MODIFIED:20250206T183021Z
UID:4939-1739404800-1739663999@puyehuechile.cl
SUMMARY:XXVI FESTIVAL INTERNACIONAL DE LA MÚSICA MEXICANA
DESCRIPTION:#Puyehue El XXVI Festival Internacional de la Música Mexicana Puyehue 2025 ya está aquí.Este jueves 13 de febrero\, a las 21 horas\, en la Explanada de Entre Lagos damos el vamos al XXVI Festival Internacional de la Música Mexicana Puyehue 2025.Durante la jornada inaugural tendremos la participación de la artista juvenil de la cumbia tropical y ranchera de chilena Alanys Lagos.El viernes 14 de febrero\, se presentará el Llanero del Ñuble junto a el KM 55.
URL:https://puyehuechile.cl/evento/xxvi-festival-internacional-de-la-musica-mexicana/
LOCATION:EXPLANADA DE ENTRE LAGOS\, Costanera de Puyehue\, Entre lagos\, Puyehue\, Chile
CATEGORIES:ENTRETENCIÓN,FAMILIA,GASTRONOMIA,TURISMO
ATTACH;FMTTYPE=image/jpeg:https://puyehuechile.cl/sitio/wp-content/uploads/2025/02/476642033_1051369113702261_2829121214907929145_n.jpg
END:VEVENT
BEGIN:VEVENT
DTSTART;TZID=UTC:20250222T080000
DTEND;TZID=UTC:20250223T170000
DTSTAMP:20260421T004102
CREATED:20250219T193152Z
LAST-MODIFIED:20250220T152200Z
UID:4952-1740211200-1740330000@puyehuechile.cl
SUMMARY:PRIMERA FIESTA COSTUMBRISTA SUSTENTABLE
DESCRIPTION:Te invitamos a disfrutar de juegos populares\, asados de cordero\, comidas típicas\, grupos folclóricos y artistas invitados.
URL:https://puyehuechile.cl/evento/primera-fiesta-costumbrista-sustentable/
LOCATION:Ñady Pichidamas\, Entre Lagos\, Puyehue\, 5360000\, Chile
CATEGORIES:ENTRETENCIÓN,FAMILIA,Folclor,GASTRONOMIA,MÚSICA
ATTACH;FMTTYPE=image/jpeg:https://puyehuechile.cl/sitio/wp-content/uploads/2025/02/IMG_4017.jpg
END:VEVENT
END:VCALENDAR