BEGIN:VCALENDAR
VERSION:2.0
PRODID:-//Turismo Puyehue - ECPv6.8.1//NONSGML v1.0//EN
CALSCALE:GREGORIAN
METHOD:PUBLISH
X-WR-CALNAME:Turismo Puyehue
X-ORIGINAL-URL:https://puyehuechile.cl
X-WR-CALDESC:Eventos para Turismo Puyehue
REFRESH-INTERVAL;VALUE=DURATION:PT1H
X-Robots-Tag:noindex
X-PUBLISHED-TTL:PT1H
BEGIN:VTIMEZONE
TZID:UTC
BEGIN:STANDARD
TZOFFSETFROM:+0000
TZOFFSETTO:+0000
TZNAME:UTC
DTSTART:20260101T000000
END:STANDARD
END:VTIMEZONE
BEGIN:VEVENT
DTSTART;VALUE=DATE:20260203
DTEND;VALUE=DATE:20260227
DTSTAMP:20260419T182524
CREATED:20260206T135225Z
LAST-MODIFIED:20260206T135225Z
UID:5299-1770076800-1772150399@puyehuechile.cl
SUMMARY:TALLERES DE VERANO: PILATES
DESCRIPTION:#Puyehue ¡𝐅𝐞𝐛𝐫𝐞𝐫𝐨 𝐬𝐞 𝐯𝐢𝐯𝐞 𝐜𝐨𝐧 𝐚𝐫𝐭𝐞\, 𝐦𝐨𝐯𝐢𝐦𝐢𝐞𝐧𝐭𝐨 𝐲 𝐞𝐱𝐩𝐫𝐞𝐬𝐢𝐨́𝐧 𝐞𝐧 𝐏𝐮𝐲𝐞𝐡𝐮𝐞! \n\n\n\nLa Oficina de Cultura y Biblioteca Municipal te invita a ser parte de sus talleres GRATUITOS pensados para todas las edades y energías:\n\n\n\n\n\n\n Pilates\n Del 3 al 26 de febrero\n Martes y jueves\, 17:00 a 18:00 hrs\n Impartido por Cristian Ayala\n\n\n Inscripciones al +56 9 2984 7718\n\n\n¡Te esperamos!
URL:https://puyehuechile.cl/evento/talleres-de-verano-pilates/
LOCATION:Puyehue
ATTACH;FMTTYPE=image/jpeg:https://puyehuechile.cl/sitio/wp-content/uploads/2026/02/drsdvers.jpg
END:VEVENT
END:VCALENDAR